BEGIN:VCALENDAR
VERSION:2.0
PRODID:-//Programs and Events Calendar - ECPv5.9.0//NONSGML v1.0//EN
CALSCALE:GREGORIAN
METHOD:PUBLISH
X-WR-CALNAME:Programs and Events Calendar
X-ORIGINAL-URL:https://naturalsciences.org/calendar
X-WR-CALDESC:Events for Programs and Events Calendar
BEGIN:VTIMEZONE
TZID:America/New_York
BEGIN:DAYLIGHT
TZOFFSETFROM:-0500
TZOFFSETTO:-0400
TZNAME:EDT
DTSTART:20250309T070000
END:DAYLIGHT
BEGIN:STANDARD
TZOFFSETFROM:-0400
TZOFFSETTO:-0500
TZNAME:EST
DTSTART:20251102T060000
END:STANDARD
END:VTIMEZONE
BEGIN:VEVENT
DTSTART;TZID=America/New_York:20250924T070000
DTEND;TZID=America/New_York:20250924T150000
DTSTAMP:20260422T065437
CREATED:20250722T160025Z
LAST-MODIFIED:20250724T153052Z
UID:112337-1758697200-1758726000@naturalsciences.org
SUMMARY:Lifelong Hike: Occoneechee Mountain
DESCRIPTION:We’ll get a taste of the mountains\, without the 4-hour drive\, in our visit to Occoneechee Mountain State Natural Area along the Eno River near Hillsborough. Mountain foliage\, scenic views and some interesting geology will make for a nice hike. \nPlease note: You will be required to enter the following information for each registrant before you can complete your registration: emergency contact\, physician contact and health information (allergies\, conditions\, medications relevant to this field experience). Take a moment to gather this information before beginning your registration. \nREGISTRATION IS FULL FOR THIS TRIP \nIf the trip is full\, please email Missy Chernick to be added to the waitlist. \nRegistration deadline:  Monday\, September 22 at 7:00am \nFor additional information about this trip and other Lifelong Hikes & Adventures\, contact Jerry Reynolds at 919.707.9884.
URL:https://naturalsciences.org/calendar/event/lifelong-hike-occoneechee-mountain/
LOCATION:In the Field
CATEGORIES:Adults,Lifelong Learners,Outdoor Experiences,Trips
END:VEVENT
END:VCALENDAR