BEGIN:VCALENDAR
VERSION:2.0
PRODID:-//Programs and Events Calendar - ECPv5.9.0//NONSGML v1.0//EN
CALSCALE:GREGORIAN
METHOD:PUBLISH
X-WR-CALNAME:Programs and Events Calendar
X-ORIGINAL-URL:https://naturalsciences.org/calendar
X-WR-CALDESC:Events for Programs and Events Calendar
BEGIN:VTIMEZONE
TZID:America/New_York
BEGIN:DAYLIGHT
TZOFFSETFROM:-0500
TZOFFSETTO:-0400
TZNAME:EDT
DTSTART:20230312T070000
END:DAYLIGHT
BEGIN:STANDARD
TZOFFSETFROM:-0400
TZOFFSETTO:-0500
TZNAME:EST
DTSTART:20231105T060000
END:STANDARD
END:VTIMEZONE
BEGIN:VEVENT
DTSTART;TZID=America/New_York:20231108T090000
DTEND;TZID=America/New_York:20231108T170000
DTSTAMP:20260420T223804
CREATED:20230711T155217Z
LAST-MODIFIED:20230809T210929Z
UID:86586-1699434000-1699462800@naturalsciences.org
SUMMARY:Lifelong Hike: Ridges Mountain
DESCRIPTION:Ridges Mountain Nature Preserve\, located in the Uwharrie Mountain Range just west of Asheboro\, is a unique natural area managed by the NC Zoo.  John Lawson wrote about his visits to this area during his journey exploring North and South Carolina over 300 years ago. We will explore that history and the natural history of this interesting mountain.  Dr. Betsy Roznik\, Associate Curator of Regional Conservation\, NC Zoo\, will join us to discuss current efforts to conserve this wonderful natural area.  Our visit will include interesting rock formations and upland pool depressions crucial to winter-breeding amphibians. \nPlease note: You will be required to enter the following information for each registrant before you can complete your registration: emergency contact\, physician contact and health information (allergies\, conditions\, medications relevant to this field experience). Take a moment to gather this information before beginning your registration. \nREGISTRATION IS FULL FOR THIS HIKE \nIf the trip is full\, please email Missy Chernick to be added to the waitlist. \nRegistration deadline:  Monday\, November 6 at 9:00 AM \nFor additional information about this trip and other Lifelong Hikes & Adventures\, contact Jerry Reynolds at 919.707.9884.
URL:https://naturalsciences.org/calendar/event/lifelong-hike-ridges-mountain/
LOCATION:In the Field
CATEGORIES:Adults,Lifelong Learners,Trips
END:VEVENT
END:VCALENDAR