BEGIN:VCALENDAR
VERSION:2.0
PRODID:-//Programs and Events Calendar - ECPv5.9.0//NONSGML v1.0//EN
CALSCALE:GREGORIAN
METHOD:PUBLISH
X-WR-CALNAME:Programs and Events Calendar
X-ORIGINAL-URL:https://naturalsciences.org/calendar
X-WR-CALDESC:Events for Programs and Events Calendar
BEGIN:VTIMEZONE
TZID:America/New_York
BEGIN:DAYLIGHT
TZOFFSETFROM:-0500
TZOFFSETTO:-0400
TZNAME:EDT
DTSTART:20230312T070000
END:DAYLIGHT
BEGIN:STANDARD
TZOFFSETFROM:-0400
TZOFFSETTO:-0500
TZNAME:EST
DTSTART:20231105T060000
END:STANDARD
END:VTIMEZONE
BEGIN:VEVENT
DTSTART;TZID=America/New_York:20230413T070000
DTEND;TZID=America/New_York:20230413T180000
DTSTAMP:20260420T121405
CREATED:20230213T170119Z
LAST-MODIFIED:20230309T140705Z
UID:81271-1681369200-1681408800@naturalsciences.org
SUMMARY:Lifelong Hike: Holly Shelter Carnivorous Plant Foray
DESCRIPTION:We will explore the longleaf pine savannas and associated pocosins of Holly Shelter State Game Land in Pender County searching for Venus flytraps\, pitcher plants\, butterworts and sundews\, along with a variety of colorful native orchids in bloom this time of year. \nPlease note: You will be required to enter the following information for each registrant before you can complete your registration: emergency contact\, physician contact and health information (allergies\, conditions\, medications relevant to this field experience). Take a moment to gather this information before beginning your registration. \nREGISTER FOR THIS TRIP \nIf the trip is full\, please email Missy Chernick to be added to the waitlist. \nRegistration deadline:  Tuesday\, April 11 at 7:00am \nFor additional information about this trip and other Lifelong Hikes & Adventures\, contact Jerry Reynolds at 919.707.9884.
URL:https://naturalsciences.org/calendar/event/lifelong-hike-holly-shelter-carnivorous-plant-foray/
LOCATION:In the Field
CATEGORIES:Adults,Lifelong Learners,Trips
END:VEVENT
END:VCALENDAR