BEGIN:VCALENDAR
VERSION:2.0
PRODID:-//Programs and Events Calendar - ECPv5.9.0//NONSGML v1.0//EN
CALSCALE:GREGORIAN
METHOD:PUBLISH
X-WR-CALNAME:Programs and Events Calendar
X-ORIGINAL-URL:https://naturalsciences.org/calendar
X-WR-CALDESC:Events for Programs and Events Calendar
BEGIN:VTIMEZONE
TZID:America/New_York
BEGIN:DAYLIGHT
TZOFFSETFROM:-0500
TZOFFSETTO:-0400
TZNAME:EDT
DTSTART:20220313T070000
END:DAYLIGHT
BEGIN:STANDARD
TZOFFSETFROM:-0400
TZOFFSETTO:-0500
TZNAME:EST
DTSTART:20221106T060000
END:STANDARD
END:VTIMEZONE
BEGIN:VEVENT
DTSTART;TZID=America/New_York:20221005T090000
DTEND;TZID=America/New_York:20221005T120000
DTSTAMP:20260420T034302
CREATED:20220906T182918Z
LAST-MODIFIED:20220906T182918Z
UID:77708-1664960400-1664971200@naturalsciences.org
SUMMARY:Lifelong Hike: Durant Nature Preserve
DESCRIPTION:Join us for a morning hike at Durant Nature Preserve\, once a Boy Scout camp and now a Raleigh City Parks Nature Preserve with five miles of trails alongside two lakes.  We will observe the plants and animals present this time of year plus learn about the ghosts of Durant Nature Preserve! \nPlease note: You will be required to enter the following information for each registrant before you can complete your registration: emergency contact\, physician contact and health information (allergies\, conditions\, medications relevant to this field experience). Take a moment to gather this information before beginning your registration. \nREGISTER FOR THIS TRIP \nIf the trip is full\, please email Missy Chernick to be added to the waitlist. \nRegistration ends 48 hours prior to program start time. \nFor additional information about this trip and other Lifelong Hikes & Adventures\, contact Jerry Reynolds at 919.707.9884.
URL:https://naturalsciences.org/calendar/event/lifelong-hike-durant-nature-preserve/
LOCATION:In the Field
CATEGORIES:Adults,Lifelong Learners,Trips
END:VEVENT
END:VCALENDAR