BEGIN:VCALENDAR
VERSION:2.0
PRODID:-//Programs and Events Calendar - ECPv5.9.0//NONSGML v1.0//EN
CALSCALE:GREGORIAN
METHOD:PUBLISH
X-WR-CALNAME:Programs and Events Calendar
X-ORIGINAL-URL:https://naturalsciences.org/calendar
X-WR-CALDESC:Events for Programs and Events Calendar
BEGIN:VTIMEZONE
TZID:America/New_York
BEGIN:DAYLIGHT
TZOFFSETFROM:-0500
TZOFFSETTO:-0400
TZNAME:EDT
DTSTART:20220313T070000
END:DAYLIGHT
BEGIN:STANDARD
TZOFFSETFROM:-0400
TZOFFSETTO:-0500
TZNAME:EST
DTSTART:20221106T060000
END:STANDARD
END:VTIMEZONE
BEGIN:VEVENT
DTSTART;TZID=America/New_York:20220601T070000
DTEND;TZID=America/New_York:20220601T160000
DTSTAMP:20260419T190016
CREATED:20220512T152732Z
LAST-MODIFIED:20220516T140449Z
UID:71624-1654066800-1654099200@naturalsciences.org
SUMMARY:Lifelong Hike: Picture Creek
DESCRIPTION:Join us on this wildflower hike at the Picture Creek Diabase Barren in Granville County. We will hike through the world’s largest population of the federally endangered Smooth Coneflower near peak bloom at this nationally significant natural site. We will explore the unique diabase geology of the area and learn why it resulted in such a rare plant community in Piedmont North Carolina. \nPlease note: You will be required to enter the following information for each registrant before you can complete your registration: emergency contact\, physician contact and health information (allergies\, conditions\, medications relevant to this field experience). Take a moment to gather this information before beginning your registration. \nREGISTER FOR THIS TRIP \nIf the trip is full\, please email Missy Chernick to be added to the waitlist. \nRegistration deadline:  May 27\, 2022 \nFor additional information about this trip and other Lifelong Hikes & Adventures\, contact Jerry Reynolds at 919.707.9884.
URL:https://naturalsciences.org/calendar/event/lifelong-hike-picture-creek-3/
LOCATION:In the Field
CATEGORIES:Adults,Lifelong Learners,Trips
END:VEVENT
END:VCALENDAR