BEGIN:VCALENDAR
VERSION:2.0
PRODID:-//Programs and Events Calendar - ECPv5.9.0//NONSGML v1.0//EN
CALSCALE:GREGORIAN
METHOD:PUBLISH
X-WR-CALNAME:Programs and Events Calendar
X-ORIGINAL-URL:https://naturalsciences.org/calendar
X-WR-CALDESC:Events for Programs and Events Calendar
BEGIN:VTIMEZONE
TZID:America/New_York
BEGIN:DAYLIGHT
TZOFFSETFROM:-0500
TZOFFSETTO:-0400
TZNAME:EDT
DTSTART:20220313T070000
END:DAYLIGHT
BEGIN:STANDARD
TZOFFSETFROM:-0400
TZOFFSETTO:-0500
TZNAME:EST
DTSTART:20221106T060000
END:STANDARD
END:VTIMEZONE
BEGIN:VEVENT
DTSTART;TZID=America/New_York:20220501T070000
DTEND;TZID=America/New_York:20220501T190000
DTSTAMP:20260419T191636
CREATED:20220406T170129Z
LAST-MODIFIED:20220425T120651Z
UID:70598-1651388400-1651431600@naturalsciences.org
SUMMARY:Lifelong Adventure: Horseshoe Lake Paddle
DESCRIPTION:Horseshoe Lake is an expansive\, partially water-filled Carolina Bay—the largest in one of the country’s most extensive Carolina Bay complexes. We will paddle along floating bog mats\, pitcher plants and pond cypress as we explore this ecologically significant natural area by boat. Rich in plant and animal diversity\, Horseshoe Lake is a unique natural area that is considered nationally significant by the NC Heritage Program. \nPlease note: You will be required to enter the following information for each registrant before you can complete your registration: emergency contact\, physician contact and health information (allergies\, conditions\, medications relevant to this field experience). Take a moment to gather this information before beginning your registration. \nREGISTERATION IS FULL FOR THIS TRIP \nIf the trip is full\, please email Missy Chernick to be added to the waitlist. \nRegistration deadline:  Wednesday\, April 27 at 5:00pm \nFor additional information about this trip and other Lifelong Hikes & Adventures\, contact Jerry Reynolds at 919.707.9884.
URL:https://naturalsciences.org/calendar/event/lifelong-adventure-horseshoe-lake-paddle/
LOCATION:In the Field
CATEGORIES:Adults,Lifelong Learners,Trips
END:VEVENT
END:VCALENDAR