BEGIN:VCALENDAR
VERSION:2.0
PRODID:-//Programs and Events Calendar - ECPv5.9.0//NONSGML v1.0//EN
CALSCALE:GREGORIAN
METHOD:PUBLISH
X-WR-CALNAME:Programs and Events Calendar
X-ORIGINAL-URL:https://naturalsciences.org/calendar
X-WR-CALDESC:Events for Programs and Events Calendar
BEGIN:VTIMEZONE
TZID:America/New_York
BEGIN:DAYLIGHT
TZOFFSETFROM:-0500
TZOFFSETTO:-0400
TZNAME:EDT
DTSTART:20240310T070000
END:DAYLIGHT
BEGIN:STANDARD
TZOFFSETFROM:-0400
TZOFFSETTO:-0500
TZNAME:EST
DTSTART:20241103T060000
END:STANDARD
END:VTIMEZONE
BEGIN:VEVENT
DTSTART;TZID=America/New_York:20240419T183000
DTEND;TZID=America/New_York:20240419T220000
DTSTAMP:20260423T091702
CREATED:20240103T192625Z
LAST-MODIFIED:20240415T220206Z
UID:91040-1713551400-1713564000@naturalsciences.org
SUMMARY:Dueling Dinosaurs Gala
DESCRIPTION:Be the first to see the Dueling Dinosaurs in their new home\, our state-of-the-art SECU DinoLab. Embark on a journey of discovery 67 million years in the making! \nEnjoy a roaring good time with dinosaur-themed cocktails\, heavy hors d’oeuvres from our carnivore and herbivore stations\, live music and dancing\, captivating performances\, engaging behind-the-scenes tours and interactive activities. \nCreative Cocktail Attire | Black Tie Optional\nComplimentary Valet Parking \nBUY TICKETS\n\nMembers: $200 | Public: $250\nYou must be 21 years or older to attend. ID is required for entry. \nTicketing and Opening Celebration Sponsorships benefit the Museum’s education and outreach work. If you can’t attend but would like to show your support with a gift to Museum Education & Outreach\, donate now. \n\nOpening Celebrations\n\nGala: April 19\, 6:30-10pm\nFriends & Family Day: April 20\, 10am–5pm\nGrand Opening: April 27\, 10am–5pm\n\n\nDueling Dinosaurs Opening Celebrations Sponsors\n\n\n\n\n\n\n\n\n\n\n\n\n\n\n\n\n\n\n\n\nBernadette Healy Goodnight & James Goodnight\n\n\n\n\n\n\n\n\n\n\n\n\n\n\n\n\n\n\n\n\n\n\n\n\n\n\n\n\n\nAnn & James Goodnight\n\n\nBeth & Julian Williamson\n\n\n\n\n\nAnonymous\nGail & Dean Bunce\nCapital Development Services/CapDev\nCapTrust\nJason Catlin & Jan Burkhard Catlin\nThe Colopy Family\nBarden Culbreth\nKathy & Tom Dow\nJennifer & Paul Elam\n\n\nThomas S. Kenan III\nCarlton & Marjorie Midyette\nAndrea Nixon & Brent Friedenberg\nPNC Bank\nMaryCraven & Dennis Poteat\nMegg & Robert Rader\nCindy & Richard Urquhardt\nVictoria Wheeler & Karl Rectanus\nDenise Young\n\n\n\n\n\n\nJean & Jack Barrier\nKari Barsness\nBatchelor Tillery & Roberts LLP\nKevin & Mary Brice\nCarlyle Adams Foundation\nClayton Kids Dentistry\nLauren Cole\nElizabeth & Richard Epstein\nKendrick & Brandon Fentress\nAndrea & Neil Fox\nJeff & Sally Greaser\nChris & Allison Hodges\nGeorge & Alice Horton\nMartha & Ken Howard\nKane Realty Corporation\nGretchen & Philip Kowalczyk\nSusu & Steven Lilly\n\nLyn Maness\nJanis McLaughlin\nAnna & Phil Menzies\nMichael Best Strategies LLC\nJanie & William Morgan\nJohn P. Noble Jr.\nDanielle & William Parry-Hill\nZeel & Ritesh Patel\nLeslie & David Pressel\nRHA Wealth\nLeigh Ann & Roger Smith\nDaniel Solomon\nAlice & Christian Tate\nWilliams Realty & Building Company Inc.\nWomble Bond Dickinson\nChristy & Daniel Wopperer\nBruce Worf\n\n\n  \n\n\nOpening Celebrations Sponsorship\nEnjoy complimentary tickets with exclusive invitation to our pre-party Happy Hour and Sponsors-Only VIP Lounge\, featuring elevated desserts\, a full bar and special access to world-renowned paleontologist\, Dr. Lindsay Zanno\, and more. For more information\, review our sponsorship levels or contact Joseph Luhning at 919.707.9817\, Joseph.Luhning@naturalsciences.org. \nDueling Dinosaurs Opening Celebrations Committee\n\nDrew Ammons\nJason Barron\nKari Barsness\nRhonda Hubbard Beatty\nEmily Burkhart\nLauren Cole\nCassandra Stroud Conover\nJennifer Elam\nAndrea Fox\nBernadette Healy Goodnight\nCatherine Mattesich Taylor\nMark McIntire\nEmily McLoughlin\nLou Muglia\nAndrea Nixon\nZeel Patel\nBrenda Pollard\nMegg Rader\nMike Rapacz\nTommy Sevier\nMissie Thompson\nAnita Watkins\nShanna Windham
URL:https://naturalsciences.org/calendar/event/dueling-dinosaurs-gala/
LOCATION:Nature Research Center\, 121 West Jones Street\, Raleigh\, NC\, 27601\, United States
CATEGORIES:Adults,Paleontology,Special Events
ORGANIZER;CN="MayAnn%20Doan":MAILTO:mayann.doan@naturalsciences.org
GEO:35.7822405;-78.6409677
X-APPLE-STRUCTURED-LOCATION;VALUE=URI;X-ADDRESS=Nature Research Center 121 West Jones Street Raleigh NC 27601 United States;X-APPLE-RADIUS=500;X-TITLE=121 West Jones Street:geo:-78.6409677,35.7822405
END:VEVENT
END:VCALENDAR