BEGIN:VCALENDAR
VERSION:2.0
PRODID:-//Programs and Events Calendar - ECPv5.9.0//NONSGML v1.0//EN
CALSCALE:GREGORIAN
METHOD:PUBLISH
X-WR-CALNAME:Programs and Events Calendar
X-ORIGINAL-URL:https://naturalsciences.org/calendar
X-WR-CALDESC:Events for Programs and Events Calendar
BEGIN:VTIMEZONE
TZID:America/New_York
BEGIN:DAYLIGHT
TZOFFSETFROM:-0500
TZOFFSETTO:-0400
TZNAME:EDT
DTSTART:20230312T070000
END:DAYLIGHT
BEGIN:STANDARD
TZOFFSETFROM:-0400
TZOFFSETTO:-0500
TZNAME:EST
DTSTART:20231105T060000
END:STANDARD
END:VTIMEZONE
BEGIN:VEVENT
DTSTART;TZID=America/New_York:20230802T120000
DTEND;TZID=America/New_York:20230802T130000
DTSTAMP:20260423T054739
CREATED:20230711T204544Z
LAST-MODIFIED:20230712T183154Z
UID:86631-1690977600-1690981200@naturalsciences.org
SUMMARY:Lunchtime Discovery: Wildlife Movements and Migrations
DESCRIPTION:David Mizejewski\, Naturalist\, National Wildlife Federation \nFrom the largest mammals to the tiniest insects\, all wildlife species need space to move and require undisturbed corridors of habitat to make such movement possible. For many species\, movement from one part of their range to another is critical for their survival\, whether it’s to reach breeding grounds\, to survive seasonal weather extremes or simply to find food resources. Join Naturalist David Mizejewski and explore how four very different types of North American wildlife move and migrate through their environments: manatees\, bats\, snakes and dragonflies. \nJoin us on YouTube!\n\nLive Virtual Presentation hosted by NC Museum of Natural Sciences’ Coordinator of Current Science Programs Chris Smith and the NC Department of Environmental Quality Office of Environmental Education and Public Affairs staff. \nYou can post questions in the YouTube chat or tweet questions to #LunchTimeDiscovery and mention @NorthCarolinaEE. \nBrought to you by the NC DEQ Office of Environmental Education and Public Affairs and the NC Museum of Natural Sciences.
URL:https://naturalsciences.org/calendar/event/lunchtime-discovery-wildlife-movements-and-migrations/
LOCATION:Virtual\, NC\, United States
CATEGORIES:Adults,Discussions,Downtown Raleigh,Lectures,Lunchtime Discovery,Teens,Virtual
ORGANIZER;CN="Chris%20Smith":MAILTO:christopher.smith@naturalsciences.org
END:VEVENT
END:VCALENDAR