BEGIN:VCALENDAR
VERSION:2.0
PRODID:-//Programs and Events Calendar - ECPv5.9.0//NONSGML v1.0//EN
CALSCALE:GREGORIAN
METHOD:PUBLISH
X-WR-CALNAME:Programs and Events Calendar
X-ORIGINAL-URL:https://naturalsciences.org/calendar
X-WR-CALDESC:Events for Programs and Events Calendar
BEGIN:VTIMEZONE
TZID:America/New_York
BEGIN:DAYLIGHT
TZOFFSETFROM:-0500
TZOFFSETTO:-0400
TZNAME:EDT
DTSTART:20230312T070000
END:DAYLIGHT
BEGIN:STANDARD
TZOFFSETFROM:-0400
TZOFFSETTO:-0500
TZNAME:EST
DTSTART:20231105T060000
END:STANDARD
END:VTIMEZONE
BEGIN:VEVENT
DTSTART;TZID=America/New_York:20230517T100000
DTEND;TZID=America/New_York:20230517T110000
DTSTAMP:20260419T122552
CREATED:20230419T132158Z
LAST-MODIFIED:20230505T154640Z
UID:83396-1684317600-1684321200@naturalsciences.org
SUMMARY:Nature Walk (Adults)
DESCRIPTION:Join us for a Nature Walk for adults! We’ll stroll through the prairie and forest and talk about the plants and animals that call Prairie Ridge home. \nNo preregistration necessary. Please dress for the weather. We will meet at the front entrance kiosk.
URL:https://naturalsciences.org/calendar/event/nature-walk-adults-2/2023-05-17/
LOCATION:Prairie Ridge\, 1671 Gold Star Drive\, Raleigh\, NC\, 27607\, United States
CATEGORIES:Adults,Citizen Science,Educators,General Events
ORGANIZER;CN="Jennifer%20Tredway":MAILTO:jennifer.tredway@naturalsciences.org
GEO:35.812182885871;-78.713963528554
X-APPLE-STRUCTURED-LOCATION;VALUE=URI;X-ADDRESS=Prairie Ridge 1671 Gold Star Drive Raleigh NC 27607 United States;X-APPLE-RADIUS=500;X-TITLE=1671 Gold Star Drive:geo:-78.713963528554,35.812182885871
END:VEVENT
BEGIN:VEVENT
DTSTART;TZID=America/New_York:20230517T133000
DTEND;TZID=America/New_York:20230517T153000
DTSTAMP:20260419T122552
CREATED:20230504T061935Z
LAST-MODIFIED:20230504T171215Z
UID:83831-1684330200-1684337400@naturalsciences.org
SUMMARY:Carolina’s Wild Butterflies: Identification and Monitoring
DESCRIPTION:Love seeing butterflies flitting around the flowers? Ever wonder about their names or how many there are? This program will introduce you to North Carolina’s wild butterflies\, how to identify them and how to become a citizen scientist butterfly monitor for the Carolinas Butterfly Monitoring Program. \nPre-registration is required for this free in-person program. Please register online here. \nThis program is intended for adults and will be conducted entirely outdoors. Please come prepared for a walk of up to a mile over uneven terrain by wearing sturdy\, closed-toed shoes and dressing for the weather. Long pants\, a wide brimmed hat and sunscreen are recommended.
URL:https://naturalsciences.org/calendar/event/carolinas-wild-butterflies-identification-and-monitoring/
LOCATION:Prairie Ridge\, 1671 Gold Star Drive\, Raleigh\, NC\, 27607\, United States
CATEGORIES:Adults,Citizen Science,Educators,General Events
ORGANIZER;CN="Chris%20Goforth":MAILTO:chris.goforth@naturalsciences.org
GEO:35.812182885871;-78.713963528554
X-APPLE-STRUCTURED-LOCATION;VALUE=URI;X-ADDRESS=Prairie Ridge 1671 Gold Star Drive Raleigh NC 27607 United States;X-APPLE-RADIUS=500;X-TITLE=1671 Gold Star Drive:geo:-78.713963528554,35.812182885871
END:VEVENT
END:VCALENDAR