BEGIN:VCALENDAR
VERSION:2.0
PRODID:-//Programs and Events Calendar - ECPv5.9.0//NONSGML v1.0//EN
CALSCALE:GREGORIAN
METHOD:PUBLISH
X-WR-CALNAME:Programs and Events Calendar
X-ORIGINAL-URL:https://naturalsciences.org/calendar
X-WR-CALDESC:Events for Programs and Events Calendar
BEGIN:VTIMEZONE
TZID:America/New_York
BEGIN:DAYLIGHT
TZOFFSETFROM:-0500
TZOFFSETTO:-0400
TZNAME:EDT
DTSTART:20220313T070000
END:DAYLIGHT
BEGIN:STANDARD
TZOFFSETFROM:-0400
TZOFFSETTO:-0500
TZNAME:EST
DTSTART:20221106T060000
END:STANDARD
END:VTIMEZONE
BEGIN:VEVENT
DTSTART;TZID=America/New_York:20221008T090000
DTEND;TZID=America/New_York:20221008T170000
DTSTAMP:20260419T233204
CREATED:20220715T180046Z
LAST-MODIFIED:20220916T180209Z
UID:75428-1665219600-1665248400@naturalsciences.org
SUMMARY:Educator Trek: Digging Prehistory
DESCRIPTION:Have you ever wanted to know where and how to find your own fossils to use in your teaching? If so\, then this workshop is for you! Join Research Curator of Paleontology Dr. Christian Kammerer as he teaches us all about the amazing fossils that can be found right in our own state. Step back in time millions of years to discover what life would have been like in prehistoric North Carolina. Join us as we learn about the history of Earth and the evolution of organisms based on evidence from the fossil record. We’ll learn about current research and collection methods in the field of paleontology as we make our own box sieves and then use them to hunt for fossils. We’ll practice our observation and identification skills on what we find\, and leave feeling empowered to find our own fossil specimens for activities in our classrooms. \nNOTE: This educator trek will take place IN THE FIELD at Green Springs Park in Greenville\, NC. Content of this workshop is unique and does not overlap with the museum-based “Permian Monsters” Educator Trek. We encourage anyone who can to sign up for both! \nCredit: 8 contact hours toward CEUs or Criteria II/III for North Carolina’s Environmental Education Certification Program \nRegister here \nAll in-person programs will follow current state and federal health guidelines and apply a range of safety measures to mitigate health risks\, including wearing masks while indoors\, in vehicles\, or in close proximity in the outdoors; smaller class sizes; moving into larger rooms (if indoors); keeping participants a safe distance from each other; and increasing sanitation efforts. \nPlease note that in-person programs are subject to change or cancellation depending on COVID-19 restrictions. A full refund would be provided in event of a cancellation.
URL:https://naturalsciences.org/calendar/event/educator-trek-digging-prehistory/
LOCATION:In the Field
CATEGORIES:Educator Treks,Educators,Trips,Workshops
ORGANIZER;CN="Megan%20Davis":MAILTO:megan.davis@naturalsciences.org
END:VEVENT
BEGIN:VEVENT
DTSTART;TZID=America/New_York:20221008T140000
DTEND;TZID=America/New_York:20221008T150000
DTSTAMP:20260419T233204
CREATED:20220913T175059Z
LAST-MODIFIED:20220926T175108Z
UID:77875-1665237600-1665241200@naturalsciences.org
SUMMARY:Honey Bees (Be a Scientist)
DESCRIPTION:Join us for a program about Honey Bees led by a North Carolina-certified beekeeper! Learn about the lives of these beloved insects — what goes on in the hive\, how they gather food\, and how we take their honey. We’ll talk about how you can support Honey Bees and other pollinators. \nThis program is for ages 8 and up; families welcome. We will meet in the classroom building\, which is a short walk down the gravel path from the parking lot. It will “bee” amazing! \n\n“Be a Scientist” programs are specifically geared towards children ages 8 and up and their families\, helping our youth gain knowledge and experience exploring nature and conducting citizen science!
URL:https://naturalsciences.org/calendar/event/honey-bees-be-a-scientist-2/
LOCATION:Prairie Ridge\, 1671 Gold Star Drive\, Raleigh\, NC\, 27607\, United States
CATEGORIES:Adults,All Ages,Children,Citizen Science,Educators,General Events,K-12 Students,Teens
ORGANIZER;CN="Jennifer%20Tredway":MAILTO:jennifer.tredway@naturalsciences.org
GEO:35.812182885871;-78.713963528554
X-APPLE-STRUCTURED-LOCATION;VALUE=URI;X-ADDRESS=Prairie Ridge 1671 Gold Star Drive Raleigh NC 27607 United States;X-APPLE-RADIUS=500;X-TITLE=1671 Gold Star Drive:geo:-78.713963528554,35.812182885871
END:VEVENT
END:VCALENDAR