BEGIN:VCALENDAR
VERSION:2.0
PRODID:-//Programs and Events Calendar - ECPv5.9.0//NONSGML v1.0//EN
CALSCALE:GREGORIAN
METHOD:PUBLISH
X-WR-CALNAME:Programs and Events Calendar
X-ORIGINAL-URL:https://naturalsciences.org/calendar
X-WR-CALDESC:Events for Programs and Events Calendar
BEGIN:VTIMEZONE
TZID:America/New_York
BEGIN:DAYLIGHT
TZOFFSETFROM:-0500
TZOFFSETTO:-0400
TZNAME:EDT
DTSTART:20220313T070000
END:DAYLIGHT
BEGIN:STANDARD
TZOFFSETFROM:-0400
TZOFFSETTO:-0500
TZNAME:EST
DTSTART:20221106T060000
END:STANDARD
END:VTIMEZONE
BEGIN:VEVENT
DTSTART;TZID=America/New_York:20220705T090000
DTEND;TZID=America/New_York:20220705T160000
DTSTAMP:20260420T040028
CREATED:20220622T165729Z
LAST-MODIFIED:20220622T175532Z
UID:75189-1657011600-1657036800@naturalsciences.org
SUMMARY:Colors of Prairie Ridge Story Trail
DESCRIPTION:Come explore the variety in color among the plants\, wildlife\, and natural spaces of Prairie Ridge through an interactive scavenger hunt story trail. Keep your eyes and ears open as you hone your observation skills while exploring different areas\, all while keeping track of the variety of colorful life you see at Prairie Ridge! \nThis program is formatted as a combined story trail/scavenger hunt meant for families with kids of all ages. The trail begins below the Nature PlaySpace\, near the picnic tables and TRACK Trail kiosk. For more information\, contact Emma Blackford at emma.blackford@naturalsciences.org or 919.707.8737
URL:https://naturalsciences.org/calendar/event/colors-of-prairie-ridge-story-trail/2022-07-05/
LOCATION:Prairie Ridge\, 1671 Gold Star Drive\, Raleigh\, NC\, 27607\, United States
CATEGORIES:Adults,All Ages,Children,Educators,General Events,K-12 Students
ORGANIZER;CN="Emma%20Blackford":MAILTO:emma.blackford@naturalsciences.org
GEO:35.812182885871;-78.713963528554
X-APPLE-STRUCTURED-LOCATION;VALUE=URI;X-ADDRESS=Prairie Ridge 1671 Gold Star Drive Raleigh NC 27607 United States;X-APPLE-RADIUS=500;X-TITLE=1671 Gold Star Drive:geo:-78.713963528554,35.812182885871
END:VEVENT
END:VCALENDAR