BEGIN:VCALENDAR
VERSION:2.0
PRODID:-//Programs and Events Calendar - ECPv5.9.0//NONSGML v1.0//EN
CALSCALE:GREGORIAN
METHOD:PUBLISH
X-WR-CALNAME:Programs and Events Calendar
X-ORIGINAL-URL:https://naturalsciences.org/calendar
X-WR-CALDESC:Events for Programs and Events Calendar
BEGIN:VTIMEZONE
TZID:America/New_York
BEGIN:DAYLIGHT
TZOFFSETFROM:-0500
TZOFFSETTO:-0400
TZNAME:EDT
DTSTART:20220313T070000
END:DAYLIGHT
BEGIN:STANDARD
TZOFFSETFROM:-0400
TZOFFSETTO:-0500
TZNAME:EST
DTSTART:20221106T060000
END:STANDARD
END:VTIMEZONE
BEGIN:VEVENT
DTSTART;TZID=America/New_York:20220528T103000
DTEND;TZID=America/New_York:20220528T113000
DTSTAMP:20260420T063820
CREATED:20220527T202859Z
LAST-MODIFIED:20220825T164831Z
UID:74887-1653733800-1653737400@naturalsciences.org
SUMMARY:Nature Creators
DESCRIPTION:Calling all creators and builders! Join us in the Nature PlaySpace as we bring out a variety of materials to create artwork\, build structures and connect with the natural world around us. Each week will look a little bit different as we utilize different materials\, strive towards different goals and bring together different creative minds. A Museum staff member will be present\, helping to facilitate your creative experience. \nThis is a free\, drop-in program. Staff and materials will be available between 10:30 and 11:30am\, or until materials are gone. Come dressed for the weather and ready to get messy! Everyone is welcome at the Nature PlaySpace\, but it has been designed especially for kids 7 and younger. \nFor more information\, contact Emma Blackford at emma.blackford@naturalsciences.org or 919.707.8737. In case of inclement weather\, call the Prairie Ridge weather line at 919.707.8888\, option 5\, for information about possible cancellations.
URL:https://naturalsciences.org/calendar/event/nature-creators-2/2022-05-28/
LOCATION:Prairie Ridge\, 1671 Gold Star Drive\, Raleigh\, NC\, 27607\, United States
CATEGORIES:All Ages,Children,Educators,General Events,K-12 Students,Nature Creators
ORGANIZER;CN="Emma%20Blackford":MAILTO:emma.blackford@naturalsciences.org
GEO:35.812182885871;-78.713963528554
X-APPLE-STRUCTURED-LOCATION;VALUE=URI;X-ADDRESS=Prairie Ridge 1671 Gold Star Drive Raleigh NC 27607 United States;X-APPLE-RADIUS=500;X-TITLE=1671 Gold Star Drive:geo:-78.713963528554,35.812182885871
END:VEVENT
BEGIN:VEVENT
DTSTART;TZID=America/New_York:20220528T140000
DTEND;TZID=America/New_York:20220528T150000
DTSTAMP:20260420T063820
CREATED:20220527T161653Z
LAST-MODIFIED:20220527T161653Z
UID:72260-1653746400-1653750000@naturalsciences.org
SUMMARY:Naturalist's Choice (Be a Scientist)
DESCRIPTION:Come out and participate in a mystery program! Your guide will chose a topic based on what’s happening at Prairie Ridge – it could be interesting insects\, beautiful birds\, or maybe a program on the plethora of plants we have! \nThis program is suitable for ages 7 and up\, families are welcome. Please dress for the weather\, wear closed toed shoes\, and bring drinking water. No preregistration is necessary. We will meet by the entrance kiosk.
URL:https://naturalsciences.org/calendar/event/naturalists-choice-be-a-scientist/
LOCATION:Prairie Ridge\, 1671 Gold Star Drive\, Raleigh\, NC\, 27607\, United States
CATEGORIES:Adults,All Ages,Children,Citizen Science,Educators,General Events,K-12 Students,Teens
ORGANIZER;CN="Jennifer%20Tredway":MAILTO:jennifer.tredway@naturalsciences.org
GEO:35.812182885871;-78.713963528554
X-APPLE-STRUCTURED-LOCATION;VALUE=URI;X-ADDRESS=Prairie Ridge 1671 Gold Star Drive Raleigh NC 27607 United States;X-APPLE-RADIUS=500;X-TITLE=1671 Gold Star Drive:geo:-78.713963528554,35.812182885871
END:VEVENT
END:VCALENDAR