BEGIN:VCALENDAR
VERSION:2.0
PRODID:-//Programs and Events Calendar - ECPv5.9.0//NONSGML v1.0//EN
CALSCALE:GREGORIAN
METHOD:PUBLISH
X-WR-CALNAME:Programs and Events Calendar
X-ORIGINAL-URL:https://naturalsciences.org/calendar
X-WR-CALDESC:Events for Programs and Events Calendar
BEGIN:VTIMEZONE
TZID:America/New_York
BEGIN:DAYLIGHT
TZOFFSETFROM:-0500
TZOFFSETTO:-0400
TZNAME:EDT
DTSTART:20210314T070000
END:DAYLIGHT
BEGIN:STANDARD
TZOFFSETFROM:-0400
TZOFFSETTO:-0500
TZNAME:EST
DTSTART:20211107T060000
END:STANDARD
END:VTIMEZONE
BEGIN:VEVENT
DTSTART;TZID=America/New_York:20211127T090000
DTEND;TZID=America/New_York:20211127T160000
DTSTAMP:20260420T143959
CREATED:20211124T212048Z
LAST-MODIFIED:20211129T191154Z
UID:66636-1638003600-1638028800@naturalsciences.org
SUMMARY:Hey Little Ant StoryWalk®
DESCRIPTION:Visit Prairie Ridge for our next StoryWalk® featuring Hey\, Little Ant\, written by Phillip and Hannah Hoose and illustrated by Debbie Tilley.  Our story begins just inside our entry gates and will take you on a short trail as you learn about the lives of ants. \nBe sure to wear closed-toed shoes that can get muddy\, appropriate dress for the weather\, and bring a water bottle. Trails are mulch\, dirt or grass and small hills are included — trail strollers or baby carriers are recommended for our smallest visitors. Bring a picnic and enjoy the day (but please pack out your trash!). \nThis StoryWalk® will be available November 23–December 31 each day we are open\, weather pending.  Prairie Ridge is open 9am–4pm Tuesday–Saturday; closed on Sundays\, Mondays\, and for the holidays November 25 and 26 and December 23–27. \nPlease refer to the Plan Your Visit page for the most recent Covid guidelines for our facilities. \nIf you are experiencing symptoms of illness\, we ask that you postpone your visit. \nThis activity is FREE and no registration is required. \nThe StoryWalk® Project was created by Anne Ferguson of Montpelier\, VT and developed in collaboration with the Kellogg-Hubbard Library.  StoryWalk® is a registered service mark owned by Ms. Ferguson.
URL:https://naturalsciences.org/calendar/event/hey-little-ant-storywalk/2021-11-27/
LOCATION:Prairie Ridge\, 1671 Gold Star Drive\, Raleigh\, NC\, 27607\, United States
CATEGORIES:Adults,All Ages,Children,Educators,General Events,K-12 Students,Teens
GEO:35.812182885871;-78.713963528554
X-APPLE-STRUCTURED-LOCATION;VALUE=URI;X-ADDRESS=Prairie Ridge 1671 Gold Star Drive Raleigh NC 27607 United States;X-APPLE-RADIUS=500;X-TITLE=1671 Gold Star Drive:geo:-78.713963528554,35.812182885871
END:VEVENT
END:VCALENDAR