BEGIN:VCALENDAR
VERSION:2.0
PRODID:-//Programs and Events Calendar - ECPv5.9.0//NONSGML v1.0//EN
CALSCALE:GREGORIAN
METHOD:PUBLISH
X-WR-CALNAME:Programs and Events Calendar
X-ORIGINAL-URL:https://naturalsciences.org/calendar
X-WR-CALDESC:Events for Programs and Events Calendar
BEGIN:VTIMEZONE
TZID:America/New_York
BEGIN:DAYLIGHT
TZOFFSETFROM:-0500
TZOFFSETTO:-0400
TZNAME:EDT
DTSTART:20240310T070000
END:DAYLIGHT
BEGIN:STANDARD
TZOFFSETFROM:-0400
TZOFFSETTO:-0500
TZNAME:EST
DTSTART:20241103T060000
END:STANDARD
END:VTIMEZONE
BEGIN:VEVENT
DTSTART;TZID=America/New_York:20240925T120000
DTEND;TZID=America/New_York:20240925T130000
DTSTAMP:20260419T140147
CREATED:20240819T155053Z
LAST-MODIFIED:20240819T155053Z
UID:102463-1727265600-1727269200@naturalsciences.org
SUMMARY:Lunchtime Discovery: Twisters Movie: The Real Science Behind Hollywood’s Blockbuster
DESCRIPTION:Dr. Sean Waugh\, Research Meteorologist\, National Oceanic and Atmospheric Administration’s (NOAA) National Severe Storms Laboratory \nJoin Sean Waugh\, meteorologist with the NOAA National Severe Storms Lab in Norman\, Oklahoma\, to find out how NOAA scientists worked hard behind the scenes with the film producers of the new Twisters movie to make the science as accurate and realistic (in some parts!) as possible. Find out more about the real-life tornado science versus what you see in “Twisters” and get an inside look at the latest NOAA tornado science\, including a virtual backstage tour of NOAA’s role as consultants to the movie’s producers\, and more! \nJoin us on YouTube!\n\nLive Virtual Presentation hosted by NC Museum of Natural Sciences’ SECU Daily Planet Curator Chris Smith and the NC Department of Environmental Quality Office of Environmental Education and Public Affairs staff. \nYou can post questions in the YouTube chat or tweet questions to #LunchTimeDiscovery and mention @NorthCarolinaEE. \nBrought to you by the NC DEQ Office of Environmental Education and Public Affairs and the NC Museum of Natural Sciences.
URL:https://naturalsciences.org/calendar/event/lunchtime-discovery-twisters-movie-the-real-science-behind-hollywoods-blockbuster/
LOCATION:Virtual\, NC\, United States
CATEGORIES:Adults,Discussions,Downtown Raleigh,Lectures,Lunchtime Discovery,Teens,Virtual
ORGANIZER;CN="Chris%20Smith":MAILTO:christopher.smith@naturalsciences.org
END:VEVENT
END:VCALENDAR