BEGIN:VCALENDAR
VERSION:2.0
PRODID:-//Programs and Events Calendar - ECPv5.9.0//NONSGML v1.0//EN
CALSCALE:GREGORIAN
METHOD:PUBLISH
X-WR-CALNAME:Programs and Events Calendar
X-ORIGINAL-URL:https://naturalsciences.org/calendar
X-WR-CALDESC:Events for Programs and Events Calendar
BEGIN:VTIMEZONE
TZID:America/New_York
BEGIN:DAYLIGHT
TZOFFSETFROM:-0500
TZOFFSETTO:-0400
TZNAME:EDT
DTSTART:20240310T070000
END:DAYLIGHT
BEGIN:STANDARD
TZOFFSETFROM:-0400
TZOFFSETTO:-0500
TZNAME:EST
DTSTART:20241103T060000
END:STANDARD
END:VTIMEZONE
BEGIN:VEVENT
DTSTART;TZID=America/New_York:20240515T120000
DTEND;TZID=America/New_York:20240515T130000
DTSTAMP:20260419T200405
CREATED:20240502T195638Z
LAST-MODIFIED:20240508T161314Z
UID:96343-1715774400-1715778000@naturalsciences.org
SUMMARY:Lunchtime Discovery: Catching the Vibe
DESCRIPTION:Nature Exploration and Community Unity with Issa Vibe Adventures\nLisa Colvin\, Co-Founder of Issa Vibe Adventures and Director of Community Relations \nJoin us to learn how three friends became the founders of the Black outdoor adventure company Issa Vibe Adventures\, taking the Charlotte area outdoor community and western North Carolina by storm. These friends kick-started Issa Vibe Adventures with the goal of exposing the Black demographic to nature\, but it has become so much more. They now take pride in giving back to their community by making sandwiches for the less fortunate and by teaching\, training\, engaging Black people to step outside of the norm\, get active and try something they’ve never done before. Join us to see how this group is changing the face of the outdoors. \nJoin us on YouTube!\n\nLive Virtual Presentation hosted by NC Museum of Natural Sciences’ SECU Daily Planet Curator Chris Smith and the NC Department of Environmental Quality Office of Environmental Education and Public Affairs staff. \nYou can post questions in the YouTube chat or tweet questions to #LunchTimeDiscovery and mention @NorthCarolinaEE. \nBrought to you by the NC DEQ Office of Environmental Education and Public Affairs and the NC Museum of Natural Sciences.
URL:https://naturalsciences.org/calendar/event/lunchtime-discovery-catching-the-vibe/
LOCATION:Virtual\, NC\, United States
CATEGORIES:Adults,Discussions,Downtown Raleigh,Lectures,Lunchtime Discovery,Teens,Virtual
ORGANIZER;CN="Chris%20Smith":MAILTO:christopher.smith@naturalsciences.org
END:VEVENT
END:VCALENDAR