BEGIN:VCALENDAR
VERSION:2.0
PRODID:-//Programs and Events Calendar - ECPv5.9.0//NONSGML v1.0//EN
CALSCALE:GREGORIAN
METHOD:PUBLISH
X-WR-CALNAME:Programs and Events Calendar
X-ORIGINAL-URL:https://naturalsciences.org/calendar
X-WR-CALDESC:Events for Programs and Events Calendar
BEGIN:VTIMEZONE
TZID:America/New_York
BEGIN:DAYLIGHT
TZOFFSETFROM:-0500
TZOFFSETTO:-0400
TZNAME:EDT
DTSTART:20240310T070000
END:DAYLIGHT
BEGIN:STANDARD
TZOFFSETFROM:-0400
TZOFFSETTO:-0500
TZNAME:EST
DTSTART:20241103T060000
END:STANDARD
END:VTIMEZONE
BEGIN:VEVENT
DTSTART;TZID=America/New_York:20240413T100000
DTEND;TZID=America/New_York:20240413T113000
DTSTAMP:20260419T214626
CREATED:20240330T175343Z
LAST-MODIFIED:20240330T175343Z
UID:95567-1713002400-1713007800@naturalsciences.org
SUMMARY:Birdwatching for Beginners
DESCRIPTION:This free adult program requires registration.  Please register online here. \nWant to try birdwatching but aren’t sure how to get started? Feel intimidated trying to identify birds? Join us for a laid-back adult program where you’ll learn the basics of identifying common birds! \nThis program is for adults. Please dress for the weather as we will be outdoors the entire time. Binoculars will be provided. We will meet in the Outdoor Classroom. From the green entrance gates\, follow the gravel path down the hill\, where you’ll see the Outdoor Classroom below.
URL:https://naturalsciences.org/calendar/event/birdwatching-for-beginners-2/
LOCATION:Prairie Ridge\, 1671 Gold Star Drive\, Raleigh\, NC\, 27607\, United States
CATEGORIES:Adults,Citizen Science,Educators,Outdoor Experiences,Workshops
ORGANIZER;CN="Jennifer%20Tredway":MAILTO:jennifer.tredway@naturalsciences.org
GEO:35.812182885871;-78.713963528554
X-APPLE-STRUCTURED-LOCATION;VALUE=URI;X-ADDRESS=Prairie Ridge 1671 Gold Star Drive Raleigh NC 27607 United States;X-APPLE-RADIUS=500;X-TITLE=1671 Gold Star Drive:geo:-78.713963528554,35.812182885871
END:VEVENT
BEGIN:VEVENT
DTSTART;TZID=America/New_York:20240413T130000
DTEND;TZID=America/New_York:20240413T150000
DTSTAMP:20260419T214626
CREATED:20240111T051519Z
LAST-MODIFIED:20240111T051519Z
UID:92967-1713013200-1713020400@naturalsciences.org
SUMMARY:Nature Journaling Meetup
DESCRIPTION:This program is intended for ages 18+ and does not require pre-registration. \nWant to practice some fun techniques with other nature journalers? Join us for a Nature Journaling Meetup! Each meetup will feature a focal activity that we will explore as a group. For this session\, we’ll focus on signs of spring. Come ready to have fun\, brainstorm ideas\, complete a journal entry\, and share with the group! \nDress for the weather (it may be breezy at Prairie Ridge!) and bring a filled water bottle\, your journal\, and favorite supplies. Don’t have supplies? You may purchase an optional $20 kit online here and pick it up during the meetup. \nWe will meet in the Outdoor Classroom\, a short walk down the gravel road from the parking lot. \nQuestions?  Contact Chris Goforth via the email address listed below!
URL:https://naturalsciences.org/calendar/event/nature-journaling-meetup-2-2/
LOCATION:Prairie Ridge\, 1671 Gold Star Drive\, Raleigh\, NC\, 27607\, United States
CATEGORIES:Adults,Outdoor Experiences
ORGANIZER;CN="Chris%20Goforth":MAILTO:chris.goforth@naturalsciences.org
GEO:35.812182885871;-78.713963528554
X-APPLE-STRUCTURED-LOCATION;VALUE=URI;X-ADDRESS=Prairie Ridge 1671 Gold Star Drive Raleigh NC 27607 United States;X-APPLE-RADIUS=500;X-TITLE=1671 Gold Star Drive:geo:-78.713963528554,35.812182885871
END:VEVENT
END:VCALENDAR