BEGIN:VCALENDAR
VERSION:2.0
PRODID:-//Programs and Events Calendar - ECPv5.9.0//NONSGML v1.0//EN
CALSCALE:GREGORIAN
METHOD:PUBLISH
X-WR-CALNAME:Programs and Events Calendar
X-ORIGINAL-URL:https://naturalsciences.org/calendar
X-WR-CALDESC:Events for Programs and Events Calendar
BEGIN:VTIMEZONE
TZID:America/New_York
BEGIN:DAYLIGHT
TZOFFSETFROM:-0500
TZOFFSETTO:-0400
TZNAME:EDT
DTSTART:20240310T070000
END:DAYLIGHT
BEGIN:STANDARD
TZOFFSETFROM:-0400
TZOFFSETTO:-0500
TZNAME:EST
DTSTART:20241103T060000
END:STANDARD
END:VTIMEZONE
BEGIN:VEVENT
DTSTART;TZID=America/New_York:20240309T100000
DTEND;TZID=America/New_York:20240309T170000
DTSTAMP:20260419T233423
CREATED:20231220T200151Z
LAST-MODIFIED:20240102T151014Z
UID:91505-1709978400-1710003600@naturalsciences.org
SUMMARY:Reptile and Amphibian Day 2024
DESCRIPTION:
URL:https://naturalsciences.org/calendar/reptile-and-amphibian-days/
LOCATION:Downtown Raleigh\, 11 West Jones Street\, Raleigh\, NC\, 27601\, United States
CATEGORIES:Accessible,Adults,All Ages,Children,Educators,K-12 Students,Special Events,Teens
ORGANIZER;CN="Kari%20Wouk":MAILTO:kari.wouk@naturalsciences.org
GEO:35.7822735;-78.6395502
X-APPLE-STRUCTURED-LOCATION;VALUE=URI;X-ADDRESS=Downtown Raleigh 11 West Jones Street Raleigh NC 27601 United States;X-APPLE-RADIUS=500;X-TITLE=11 West Jones Street:geo:-78.6395502,35.7822735
END:VEVENT
BEGIN:VEVENT
DTSTART;TZID=America/New_York:20240309T120000
DTEND;TZID=America/New_York:20240309T123000
DTSTAMP:20260419T233423
CREATED:20240305T194022Z
LAST-MODIFIED:20240530T192652Z
UID:94949-1709985600-1709987400@naturalsciences.org
SUMMARY:3D Movie: Wings Over Water
DESCRIPTION:Wings Over Water 3D\n“Wings Over Water\,” narrated by Michael Keaton\, tells the compelling story of three amazing bird species — the sandhill crane\, the yellow warbler and the mallard duck — with extraordinary footage of their fascinating behaviors as they migrate home to the prairies to raise their young. \nBUY TICKETS\nWings Over Water 3D movie website\nCurriculum Correlations for Educators\nK.L.1\, 1.L.1\, 2.L.1\, 3.L.2\, 4.L.1\, 5.L.1\, 6.L.2\, 8.L.3
URL:https://naturalsciences.org/calendar/event/3d-movie-wings-over-water/2024-03-09/
LOCATION:Downtown Raleigh\, 11 West Jones Street\, Raleigh\, NC\, 27601\, United States
CATEGORIES:Adults,All Ages,Children,Educators,K-12 Students,Movies,Teens,WRAL 3D Theater
ORGANIZER;CN="Museum%20Box%20Office":MAILTO:museumboxoffice@naturalsciences.org
GEO:35.7822735;-78.6395502
X-APPLE-STRUCTURED-LOCATION;VALUE=URI;X-ADDRESS=Downtown Raleigh 11 West Jones Street Raleigh NC 27601 United States;X-APPLE-RADIUS=500;X-TITLE=11 West Jones Street:geo:-78.6395502,35.7822735
END:VEVENT
BEGIN:VEVENT
DTSTART;TZID=America/New_York:20240309T130000
DTEND;TZID=America/New_York:20240309T133000
DTSTAMP:20260419T233423
CREATED:20240305T191933Z
LAST-MODIFIED:20240530T192827Z
UID:94806-1709989200-1709991000@naturalsciences.org
SUMMARY:3D Movie: Dinosaurs of Antarctica
DESCRIPTION:Dinosaurs of Antarctica 3D\nFrom the Permian through the Jurassic\, journey to the south polar landscapes of Antarctica hundreds of millions of years ago. Roam the primitive forests and thick swamps with bizarre dinosaurs and colossal amphibians. Enter a surreal world of bug-eyed giants and egg-laying mammals — where survival means enduring the sunless\, six-month polar winter surrounded by meat-eaters with night vision. Join intrepid Antarctic scientists on a quest to understand the ice continent’s profound transformation — and to predict the future as humans drive dramatic change. Welcome to the lost prehistoric world of Gondwana. Welcome to Antarctica. \nBUY TICKETS\nDinosaurs of Antarctica 3D website\n\nDinosaurs of Antarctica Educator Guide: Grades K-1 (23MB PDF)\nDinosaurs of Antarctica Educator Guide: Grades 2-3 (15MB PDF)\nDinosaurs of Antarctica Educator Guide: Grades 4-5 (17MB PDF)\nDinosaurs of Antarctica Educator Guide: Grades 6-8 (18MB PDF)
URL:https://naturalsciences.org/calendar/event/3d-movie-dinosaurs-of-antarctica-7/2024-03-09/
LOCATION:Downtown Raleigh\, 11 West Jones Street\, Raleigh\, NC\, 27601\, United States
CATEGORIES:Adults,All Ages,Children,Movies,Teens,WRAL 3D Theater
ORGANIZER;CN="Museum%20Box%20Office":MAILTO:museumboxoffice@naturalsciences.org
GEO:35.7822735;-78.6395502
X-APPLE-STRUCTURED-LOCATION;VALUE=URI;X-ADDRESS=Downtown Raleigh 11 West Jones Street Raleigh NC 27601 United States;X-APPLE-RADIUS=500;X-TITLE=11 West Jones Street:geo:-78.6395502,35.7822735
END:VEVENT
END:VCALENDAR