BEGIN:VCALENDAR
VERSION:2.0
PRODID:-//Programs and Events Calendar - ECPv5.9.0//NONSGML v1.0//EN
CALSCALE:GREGORIAN
METHOD:PUBLISH
X-WR-CALNAME:Programs and Events Calendar
X-ORIGINAL-URL:https://naturalsciences.org/calendar
X-WR-CALDESC:Events for Programs and Events Calendar
BEGIN:VTIMEZONE
TZID:America/New_York
BEGIN:DAYLIGHT
TZOFFSETFROM:-0500
TZOFFSETTO:-0400
TZNAME:EDT
DTSTART:20230312T070000
END:DAYLIGHT
BEGIN:STANDARD
TZOFFSETFROM:-0400
TZOFFSETTO:-0500
TZNAME:EST
DTSTART:20231105T060000
END:STANDARD
END:VTIMEZONE
BEGIN:VEVENT
DTSTART;TZID=America/New_York:20230401T100000
DTEND;TZID=America/New_York:20230401T110000
DTSTAMP:20260420T161918
CREATED:20230323T123802Z
LAST-MODIFIED:20230323T142951Z
UID:82127-1680343200-1680346800@naturalsciences.org
SUMMARY:Nature's Pranksters (Ages 10 and up)
DESCRIPTION:Join us for a program about how animals in nature try to fool each other. Whether it’s through mimicry or camouflage\, there are some pretty tricky ways to survive! \nThis program is for ages 10 and up. Please dress for the weather and wear closed-toed shoes.  We will meet at the entrance gate.
URL:https://naturalsciences.org/calendar/event/natures-pranksters-ages-10-and-up/
LOCATION:Prairie Ridge\, 1671 Gold Star Drive\, Raleigh\, NC\, 27607\, United States
CATEGORIES:Adults,All Ages,Children,Citizen Science,General Events,Teens
ORGANIZER;CN="Jennifer%20Tredway":MAILTO:jennifer.tredway@naturalsciences.org
GEO:35.812182885871;-78.713963528554
X-APPLE-STRUCTURED-LOCATION;VALUE=URI;X-ADDRESS=Prairie Ridge 1671 Gold Star Drive Raleigh NC 27607 United States;X-APPLE-RADIUS=500;X-TITLE=1671 Gold Star Drive:geo:-78.713963528554,35.812182885871
END:VEVENT
BEGIN:VEVENT
DTSTART;TZID=America/New_York:20230401T140000
DTEND;TZID=America/New_York:20230401T150000
DTSTAMP:20260420T161919
CREATED:20230323T124036Z
LAST-MODIFIED:20230323T144001Z
UID:82129-1680357600-1680361200@naturalsciences.org
SUMMARY:Soil Walk (Ages 10 and up)
DESCRIPTION:Come take a walk with a soil scientist! We will talk about how soil changes over the landscape\, the characteristics used to describe soil\, and soil/plant relationships. \nThis program is for ages 10 and up. Please come dressed for the weather\, and be prepared to take a short hike and get a bit dirty. Closed-toed shoes recommended. We will meet at the entrance gate.
URL:https://naturalsciences.org/calendar/event/soil-walk-ages-10-and-up-2/2023-04-01/
LOCATION:Prairie Ridge\, 1671 Gold Star Drive\, Raleigh\, NC\, 27607\, United States
CATEGORIES:Adults,All Ages,Children,Citizen Science,General Events,K-12 Students,Teens
ORGANIZER;CN="Jennifer%20Tredway":MAILTO:jennifer.tredway@naturalsciences.org
GEO:35.812182885871;-78.713963528554
X-APPLE-STRUCTURED-LOCATION;VALUE=URI;X-ADDRESS=Prairie Ridge 1671 Gold Star Drive Raleigh NC 27607 United States;X-APPLE-RADIUS=500;X-TITLE=1671 Gold Star Drive:geo:-78.713963528554,35.812182885871
END:VEVENT
END:VCALENDAR