BEGIN:VCALENDAR
VERSION:2.0
PRODID:-//Programs and Events Calendar - ECPv5.9.0//NONSGML v1.0//EN
CALSCALE:GREGORIAN
METHOD:PUBLISH
X-WR-CALNAME:Programs and Events Calendar
X-ORIGINAL-URL:https://naturalsciences.org/calendar
X-WR-CALDESC:Events for Programs and Events Calendar
BEGIN:VTIMEZONE
TZID:America/New_York
BEGIN:DAYLIGHT
TZOFFSETFROM:-0500
TZOFFSETTO:-0400
TZNAME:EDT
DTSTART:20230312T070000
END:DAYLIGHT
BEGIN:STANDARD
TZOFFSETFROM:-0400
TZOFFSETTO:-0500
TZNAME:EST
DTSTART:20231105T060000
END:STANDARD
END:VTIMEZONE
BEGIN:VEVENT
DTSTART;TZID=America/New_York:20230323T173000
DTEND;TZID=America/New_York:20230323T203000
DTSTAMP:20260420T175050
CREATED:20221221T214804Z
LAST-MODIFIED:20230209T152555Z
UID:79468-1679592600-1679603400@naturalsciences.org
SUMMARY:Challenging the Deep Lecture Series: Steve Ross
DESCRIPTION:Returning to the Wreck of RMS Titanic\nDeep-Sea Science in the North Atlantic\nDeep-sea crab. Photo © Art Howard. \nAbout this Lecture\nThe deep-sea\, generally deeper than 200 meters\, is the largest ecosystem on Earth and the least known. The RMS Titanic\, which lies at about 3\,800 meters depth\, is an iconic wreck to explore and has been the subject of several expeditions since its location was discovered in 1985. Equipped with a new 5-person submersible called Titan\, scientists want to investigate the ecology of the most famous shipwreck and therefore the most famous artificial reef. \nDr. Steve Ross joins us for the second installment of the Challenging the Deep Lecture Series to explore the development of the Titan\, his 2021 and 2022 expeditions to the Titanic\, as well as new discoveries and exciting achievements from deep-sea science throughout the western North Atlantic Ocean. \nLecture recommended for ages 12 and older. \nTickets are $10; free for Members. Ticket includes lecture with Q&A and an evening exploration of James Cameron – Challenging the Deep. Exhibition open from 5:30-7pm. Lecture begins at 7pm. Not a member yet? Join today! \nBUY TICKETS\nAbout our guest\nDr. Steve Ross is a Research Professor at the Center for Marine Science at the University of North Carolina Wilmington. He has served as chief scientist on numerous cruises\, including those using submersibles. He is the Chief Scientist for the 2022 Titanic Survey Expedition.  His current work involves community assessment of unique deep-water habitats\, such as methane cold seeps. He holds a PhD from North Carolina State University. Dr. Ross is the author of the most peer-reviewed journal articles resulting from ocean exploration missions supported by the National Oceanographic and Atmospheric Administration (NOAA) Office of Ocean Exploration and Research (OER). \n\nAbout the lecture series\nJoin ocean experts in this special lecture series to dive deep into the knowns and unknowns of our watery world. Each month\, we will feature a presentation from a renowned scientist (7–8pm) and an evening viewing of the special exhibition\, James Cameron – Challenging the Deep (open 5:30–7pm). Other lecture dates: \nFebruary 9: Dr. Kate Davis\, Oceanographer with North Carolina State University \nApril 13: Dr. Sönke Johnsen\, Sensory Biologist at Duke University \nThese lectures are recommended for ages 12 and older.
URL:https://naturalsciences.org/calendar/event/challenging-the-deep-lecture-series-with-steve-ross/
LOCATION:Downtown Raleigh\, 11 West Jones Street\, Raleigh\, NC\, 27601\, United States
CATEGORIES:Adults,Lectures,Special Lectures,Teens,WRAL 3D Theater
ORGANIZER;CN="Chris%20Smith":MAILTO:christopher.smith@naturalsciences.org
GEO:35.7822735;-78.6395502
X-APPLE-STRUCTURED-LOCATION;VALUE=URI;X-ADDRESS=Downtown Raleigh 11 West Jones Street Raleigh NC 27601 United States;X-APPLE-RADIUS=500;X-TITLE=11 West Jones Street:geo:-78.6395502,35.7822735
END:VEVENT
END:VCALENDAR