BEGIN:VCALENDAR
VERSION:2.0
PRODID:-//Programs and Events Calendar - ECPv5.9.0//NONSGML v1.0//EN
CALSCALE:GREGORIAN
METHOD:PUBLISH
X-WR-CALNAME:Programs and Events Calendar
X-ORIGINAL-URL:https://naturalsciences.org/calendar
X-WR-CALDESC:Events for Programs and Events Calendar
BEGIN:VTIMEZONE
TZID:America/New_York
BEGIN:DAYLIGHT
TZOFFSETFROM:-0500
TZOFFSETTO:-0400
TZNAME:EDT
DTSTART:20230312T070000
END:DAYLIGHT
BEGIN:STANDARD
TZOFFSETFROM:-0400
TZOFFSETTO:-0500
TZNAME:EST
DTSTART:20231105T060000
END:STANDARD
END:VTIMEZONE
BEGIN:VEVENT
DTSTART;TZID=America/New_York:20230315T090000
DTEND;TZID=America/New_York:20230315T160000
DTSTAMP:20260420T192328
CREATED:20230213T163627Z
LAST-MODIFIED:20230213T163627Z
UID:81269-1678870800-1678896000@naturalsciences.org
SUMMARY:Lifelong Hike: Confluence Natural Area
DESCRIPTION:We’ll look for spring wildflowers on our hike in the Confluence Natural Area in Orange County.  This beautiful natural area\, where the East and West Forks meet to create the main stem of the Eno River\, has been designated as a Nationally Significant Natural Heritage Area. \nPlease note: You will be required to enter the following information for each registrant before you can complete your registration: emergency contact\, physician contact and health information (allergies\, conditions\, medications relevant to this field experience). Take a moment to gather this information before beginning your registration. \nREGISTER FOR THIS TRIP \nIf the trip is full\, please email Missy Chernick to be added to the waitlist. \nRegistration deadline:  Monday\, March 13 at 9:00am \nFor additional information about this trip and other Lifelong Hikes & Adventures\, contact Jerry Reynolds at 919.707.9884.
URL:https://naturalsciences.org/calendar/event/lifelong-hike-confluence-natural-area/
LOCATION:In the Field
CATEGORIES:Adults,Lifelong Learners,Trips
END:VEVENT
BEGIN:VEVENT
DTSTART;TZID=America/New_York:20230315T100000
DTEND;TZID=America/New_York:20230315T110000
DTSTAMP:20260420T192328
CREATED:20230209T181948Z
LAST-MODIFIED:20230209T181948Z
UID:81318-1678874400-1678878000@naturalsciences.org
SUMMARY:Nature Walk (for Adults)
DESCRIPTION:This program is for adults. \nJoin us for a Nature Walk! We’ll stroll through the prairie and forest and talk about the plants and animals that call Prairie Ridge home. \nNo preregistration necessary. Please dress for the weather. We will meet at the entrance kiosk.
URL:https://naturalsciences.org/calendar/event/nature-walk-for-adults/
LOCATION:Prairie Ridge\, 1671 Gold Star Drive\, Raleigh\, NC\, 27607\, United States
CATEGORIES:Adults,Citizen Science,Educators,General Events
ORGANIZER;CN="Jennifer%20Tredway":MAILTO:jennifer.tredway@naturalsciences.org
GEO:35.812182885871;-78.713963528554
X-APPLE-STRUCTURED-LOCATION;VALUE=URI;X-ADDRESS=Prairie Ridge 1671 Gold Star Drive Raleigh NC 27607 United States;X-APPLE-RADIUS=500;X-TITLE=1671 Gold Star Drive:geo:-78.713963528554,35.812182885871
END:VEVENT
BEGIN:VEVENT
DTSTART;TZID=America/New_York:20230315T120000
DTEND;TZID=America/New_York:20230315T130000
DTSTAMP:20260420T192328
CREATED:20230307T201954Z
LAST-MODIFIED:20230307T201954Z
UID:81807-1678881600-1678885200@naturalsciences.org
SUMMARY:Lunchtime Discovery: A Look Behind the Camera
DESCRIPTION:Covering Climate Change on Broadcast Television\nElisa Raffa\, Meteorologist and Climate Specialist at Queen City News/ FOX Charlotte\, STEM Experience Specialist at Discovery Place Science \nElisa Raffa is a broadcast meteorologist and climate specialist at Queen City News/ FOX Charlotte. With a passion for communicating climate change\, she’s earned national and international recognition for using everything from beer\, chocolate\, snow shovels and vultures to help viewers relate to the climate crisis. When she’s not on-air\, you’ll find her at Discovery Place Science in Uptown Charlotte. As a STEM specialist on staff\, she writes lessons and tests hands-on activities in weather and climate science for kids of all ages. While climate communication and education are her biggest passions and drivers in her career\, they don’t come without challenges. Come chat about how gender and politics play into navigating misinformation on-air\, and how a small role on museum staff can make the biggest difference in our future. \nJoin us on YouTube!\n\nLive Virtual Presentation hosted by NC Museum of Natural Sciences’ SECU Daily Planet Curator Chris Smith and the NC Department of Environmental Quality Office of Environmental Education and Public Affairs staff. \nYou can post questions in the YouTube chat or tweet questions to #LunchTimeDiscovery and mention @NorthCarolinaEE. \nBrought to you by the NC DEQ Office of Environmental Education and Public Affairs and the NC Museum of Natural Sciences.
URL:https://naturalsciences.org/calendar/event/lunchtime-discovery-a-look-behind-the-camera/
LOCATION:Virtual\, NC\, United States
CATEGORIES:Adults,Discussions,Downtown Raleigh,Lectures,Lunchtime Discovery,Teens,Virtual
ORGANIZER;CN="Chris%20Smith":MAILTO:christopher.smith@naturalsciences.org
END:VEVENT
END:VCALENDAR