BEGIN:VCALENDAR
VERSION:2.0
PRODID:-//Programs and Events Calendar - ECPv5.9.0//NONSGML v1.0//EN
CALSCALE:GREGORIAN
METHOD:PUBLISH
X-WR-CALNAME:Programs and Events Calendar
X-ORIGINAL-URL:https://naturalsciences.org/calendar
X-WR-CALDESC:Events for Programs and Events Calendar
BEGIN:VTIMEZONE
TZID:America/New_York
BEGIN:DAYLIGHT
TZOFFSETFROM:-0500
TZOFFSETTO:-0400
TZNAME:EDT
DTSTART:20220313T070000
END:DAYLIGHT
BEGIN:STANDARD
TZOFFSETFROM:-0400
TZOFFSETTO:-0500
TZNAME:EST
DTSTART:20221106T060000
END:STANDARD
END:VTIMEZONE
BEGIN:VEVENT
DTSTART;TZID=America/New_York:20221015T090000
DTEND;TZID=America/New_York:20221015T110000
DTSTAMP:20260421T013822
CREATED:20220804T152907Z
LAST-MODIFIED:20221015T115709Z
UID:75606-1665824400-1665831600@naturalsciences.org
SUMMARY:MEMBER PREVIEW: JAMES CAMERON - CHALLENGING THE DEEP
DESCRIPTION:Members enjoy a first look at our newest special exhibition\, James Cameron — Challenging the Deep\, at this Member-exclusive preview. The exhibition traces explorer and filmmaker James Cameron’s passion for deep-ocean science\, technology and exploration. Explore the spectacular and mysterious abyss and discover the shipwrecks of Titanic and the German battleship Bismarck. Learn how technologies pioneered by Cameron for underwater recording\, lighting\, communication and diving are employed in both his filmmaking and exploration. \nMembers will get exclusive access to the exhibition from 9am to 11am on opening day. Come meet our staff and learn about the mysterious world of the deep ocean. \nCurrent membership and preregistration required. Recommended for ages 10+\, all ages welcome. Not a member yet? Join today! \nReserve Tickets
URL:https://naturalsciences.org/calendar/event/member-preview-james-cameron-challenging-the-deep/
LOCATION:Downtown Raleigh\, 11 West Jones Street\, Raleigh\, NC\, 27601\, United States
CATEGORIES:Adults,All Ages,Children,Member Exclusive,Teens
ORGANIZER;CN="Katie%20Cupp":MAILTO:Katie.Cupp@naturalsciences.org
GEO:35.7822735;-78.6395502
X-APPLE-STRUCTURED-LOCATION;VALUE=URI;X-ADDRESS=Downtown Raleigh 11 West Jones Street Raleigh NC 27601 United States;X-APPLE-RADIUS=500;X-TITLE=11 West Jones Street:geo:-78.6395502,35.7822735
END:VEVENT
BEGIN:VEVENT
DTSTART;TZID=America/New_York:20221015T110000
DTEND;TZID=America/New_York:20221015T114000
DTSTAMP:20260421T013822
CREATED:20220831T185022Z
LAST-MODIFIED:20230406T153007Z
UID:77448-1665831600-1665834000@naturalsciences.org
SUMMARY:3D Movie: DeepSea Challenge
DESCRIPTION:DeepSea Challenge 3D\nAs a boy\, filmmaker James Cameron dreamed of a journey — to the deepest part of the ocean. “James Cameron’s DeepSea Challenge 3D” is the dramatic fulfillment of that dream. The film chronicles Cameron’s solo dive to the depths of the Mariana Trench — nearly seven miles beneath the ocean’s surface — piloting a submersible he co-designed and co-engineered. \nSpectacular 3D effects capture the exhilaration of exploration in the haunting\, lunar-like landscape of the Mariana Trench and the bizarre\, alien-like sea creatures Cameron observes in the ocean depths\, from gelatinous holothurians to shrimp-like amphipods. This bold expedition is an inspiring reminder that there is still much left to explore on this planet and that we learn exciting things when we push our human boundaries.\n40 minutes. \nDeepSea Combo: Add a DeepSea Challenge 3D movie ticket to any regularly priced Challenging the Deep special exhibition purchase for just $3.\nBuy Combo Ticket. \nBUY TICKETS TO DEEPSEA CHALLENGE 3D
URL:https://naturalsciences.org/calendar/event/3d-movie-deepsea-challenge/2022-10-15/
LOCATION:Downtown Raleigh\, 11 West Jones Street\, Raleigh\, NC\, 27601\, United States
CATEGORIES:Adults,All Ages,Children,Movies,Teens,WRAL 3D Theater
ORGANIZER;CN="Museum%20Box%20Office":MAILTO:museumboxoffice@naturalsciences.org
GEO:35.7822735;-78.6395502
X-APPLE-STRUCTURED-LOCATION;VALUE=URI;X-ADDRESS=Downtown Raleigh 11 West Jones Street Raleigh NC 27601 United States;X-APPLE-RADIUS=500;X-TITLE=11 West Jones Street:geo:-78.6395502,35.7822735
END:VEVENT
BEGIN:VEVENT
DTSTART;TZID=America/New_York:20221015T130000
DTEND;TZID=America/New_York:20221015T133000
DTSTAMP:20260421T013822
CREATED:20220811T200035Z
LAST-MODIFIED:20230406T153829Z
UID:76408-1665838800-1665840600@naturalsciences.org
SUMMARY:3D Movie: Incredible Predators
DESCRIPTION:Incredible Predators 3D\n“Incredible Predators” deconstructs the world of major predators as never before\, taking an intimate look at the remarkable strategies they use to succeed. Advanced filming techniques expose the planet’s top predators in extraordinary footage\, putting the audience right beside them as they hunt – on land\, under the sea or in the air. \nFar from a film about the kill\, instead the audience will be emotionally engaged with the key characters\, learning how these supreme species must be at the very peak of performance to have any chance of success. Their backstory will be a key part of the narrative; to understand a cheetah’s dilemma you must meet her hungry cubs. \nTop predators occupy an apex position within the habitats they dominate and\, alongside dramatic animal behavior\, “Incredible Predators” reveals the unique relationship between predators and prey as a fundamental building block of ecology. \nBUY TICKETS\nIncredible Predators 3D website
URL:https://naturalsciences.org/calendar/event/3d-movie-incredible-predators-6/2022-10-15/
LOCATION:Downtown Raleigh\, 11 West Jones Street\, Raleigh\, NC\, 27601\, United States
CATEGORIES:Adults,Children,Movies,Teens,WRAL 3D Theater
ORGANIZER;CN="Museum%20Box%20Office":MAILTO:museumboxoffice@naturalsciences.org
GEO:35.7822735;-78.6395502
X-APPLE-STRUCTURED-LOCATION;VALUE=URI;X-ADDRESS=Downtown Raleigh 11 West Jones Street Raleigh NC 27601 United States;X-APPLE-RADIUS=500;X-TITLE=11 West Jones Street:geo:-78.6395502,35.7822735
END:VEVENT
BEGIN:VEVENT
DTSTART;TZID=America/New_York:20221015T140000
DTEND;TZID=America/New_York:20221015T150000
DTSTAMP:20260421T013822
CREATED:20221001T173700Z
LAST-MODIFIED:20221221T182058Z
UID:78090-1665842400-1665846000@naturalsciences.org
SUMMARY:Nature Walk (ages 8 and up)
DESCRIPTION:Join us for a guided nature walk! We will start at the front gate\, and work our way through the prairie and then the arboretum\, learning about the plants and wildlife we see along the way. \nThis program is for ages 8 and up; families welcome. Please wear closed-toed shoes and dress for the weather. We will meet at the entrance gate.
URL:https://naturalsciences.org/calendar/event/nature-walk-ages-8-and-up/2022-10-15/
LOCATION:Prairie Ridge\, 1671 Gold Star Drive\, Raleigh\, NC\, 27607\, United States
CATEGORIES:Adults,All Ages,Children,Citizen Science,General Events,K-12 Students,Teens
ORGANIZER;CN="Jennifer%20Tredway":MAILTO:jennifer.tredway@naturalsciences.org
GEO:35.812182885871;-78.713963528554
X-APPLE-STRUCTURED-LOCATION;VALUE=URI;X-ADDRESS=Prairie Ridge 1671 Gold Star Drive Raleigh NC 27607 United States;X-APPLE-RADIUS=500;X-TITLE=1671 Gold Star Drive:geo:-78.713963528554,35.812182885871
END:VEVENT
BEGIN:VEVENT
DTSTART;TZID=America/New_York:20221015T150000
DTEND;TZID=America/New_York:20221015T154000
DTSTAMP:20260421T013822
CREATED:20220831T190225Z
LAST-MODIFIED:20230406T160132Z
UID:77453-1665846000-1665848400@naturalsciences.org
SUMMARY:3D Movie: DeepSea Challenge
DESCRIPTION:DeepSea Challenge 3D\nAs a boy\, filmmaker James Cameron dreamed of a journey — to the deepest part of the ocean. “James Cameron’s DeepSea Challenge 3D” is the dramatic fulfillment of that dream. The film chronicles Cameron’s solo dive to the depths of the Mariana Trench — nearly seven miles beneath the ocean’s surface — piloting a submersible he co-designed and co-engineered. \nSpectacular 3D effects capture the exhilaration of exploration in the haunting\, lunar-like landscape of the Mariana Trench and the bizarre\, alien-like sea creatures Cameron observes in the ocean depths\, from gelatinous holothurians to shrimp-like amphipods. This bold expedition is an inspiring reminder that there is still much left to explore on this planet and that we learn exciting things when we push our human boundaries.\n40 minutes. \nDeepSea Combo: Add a DeepSea Challenge 3D movie ticket to any regularly priced Challenging the Deep special exhibition purchase for just $3.\nBuy Combo Ticket. \nBUY TICKETS TO DEEPSEA CHALLENGE 3D
URL:https://naturalsciences.org/calendar/event/3d-movie-deepsea-challenge-1/2022-10-15/
LOCATION:Downtown Raleigh\, 11 West Jones Street\, Raleigh\, NC\, 27601\, United States
CATEGORIES:Adults,All Ages,Children,Movies,Teens,WRAL 3D Theater
ORGANIZER;CN="Museum%20Box%20Office":MAILTO:museumboxoffice@naturalsciences.org
GEO:35.7822735;-78.6395502
X-APPLE-STRUCTURED-LOCATION;VALUE=URI;X-ADDRESS=Downtown Raleigh 11 West Jones Street Raleigh NC 27601 United States;X-APPLE-RADIUS=500;X-TITLE=11 West Jones Street:geo:-78.6395502,35.7822735
END:VEVENT
END:VCALENDAR