BEGIN:VCALENDAR
VERSION:2.0
PRODID:-//Programs and Events Calendar - ECPv5.9.0//NONSGML v1.0//EN
CALSCALE:GREGORIAN
METHOD:PUBLISH
X-WR-CALNAME:Programs and Events Calendar
X-ORIGINAL-URL:https://naturalsciences.org/calendar
X-WR-CALDESC:Events for Programs and Events Calendar
BEGIN:VTIMEZONE
TZID:America/New_York
BEGIN:DAYLIGHT
TZOFFSETFROM:-0500
TZOFFSETTO:-0400
TZNAME:EDT
DTSTART:20220313T070000
END:DAYLIGHT
BEGIN:STANDARD
TZOFFSETFROM:-0400
TZOFFSETTO:-0500
TZNAME:EST
DTSTART:20221106T060000
END:STANDARD
END:VTIMEZONE
BEGIN:VEVENT
DTSTART;TZID=America/New_York:20221014T070500
DTEND;TZID=America/New_York:20221014T090000
DTSTAMP:20260421T013724
CREATED:20220614T194939Z
LAST-MODIFIED:20220614T194939Z
UID:75089-1665731100-1665738000@naturalsciences.org
SUMMARY:Early Birds at Prairie Ridge
DESCRIPTION:Everyone knows the best birding happens early in the morning\, so we are pleased to welcome Early Birds at Prairie Ridge! Bring your own binoculars or camera and stop by before we open to enjoy our early morning birds. No pre-registration is required and you’re welcome to arrive as early as 7:05am! Rain cancels event.
URL:https://naturalsciences.org/calendar/event/early-birds-at-prairie-ridge-3-2-2-2-2/
LOCATION:Prairie Ridge\, 1671 Gold Star Drive\, Raleigh\, NC\, 27607\, United States
CATEGORIES:Adults,All Ages,Children,Educators,General Events,K-12 Students,Teens
ORGANIZER;CN="Julie%20Hall":MAILTO:julie.hall@naturalsciences.org
GEO:35.812182885871;-78.713963528554
X-APPLE-STRUCTURED-LOCATION;VALUE=URI;X-ADDRESS=Prairie Ridge 1671 Gold Star Drive Raleigh NC 27607 United States;X-APPLE-RADIUS=500;X-TITLE=1671 Gold Star Drive:geo:-78.713963528554,35.812182885871
END:VEVENT
BEGIN:VEVENT
DTSTART;TZID=America/New_York:20221014T173000
DTEND;TZID=America/New_York:20221014T220000
DTSTAMP:20260421T013724
CREATED:20220624T165739Z
LAST-MODIFIED:20221010T160921Z
UID:75251-1665768600-1665784800@naturalsciences.org
SUMMARY:Museum Movie Night: Beetlejuice
DESCRIPTION:5:30pm–7pm: Live music and science stations.\n6pm–7pm: Food available for purchase\n7pm: Movie begins in the WRAL 3D Theater\, followed by commentary. \nBeetlejuice (1988)\n“‘Live people ignore the strange and unusual’. I myself am strange and unusual.” — Lydia \nAdam and Barbara are a normal couple … who happen to be dead. They have given their precious time to decorate their house and make it their own\, but unfortunately\, a family is moving in\, and not quietly. Adam and Barbara try to scare them out\, but end up becoming the main attraction to the money-making family. They call upon Beetlejuice to help\, but Beetlejuice has more in mind than just helping. \nJoin us for a strange and unusual adventure on October 14 for this month’s installment of Museum Movie Night: Beetlejuice!  As always\, there will be food\, live music and science stations! \nBeetlejuice is rated PG. Parental discretion advised due to some strong language and mature themes. \nAbout our expert: \nRobin Simonton has been the Executive Director of Historic Oakwood Cemetery since November of 2011. Robin holds a BA in US history from the University of Hawaii and an MA in historical administration from Eastern Illinois University.  Robin served as the researcher of the book “Oahu Cemetery: Burial Ground & Historic Site\,” written by Nanette Napoleon in 1997\, and wrote a case study in the book\, “Cemetery Tours and Programming” in 2017 by Rachel Wolgemuth.  She and Cemetery Historian Bruce Miller co-authored “Images of America: Historic Oakwood Cemetery” in 2017.  In 2022\, her essay\, “Life and Death in Oakwood Cemetery” will be published in Loren Rhoads’ book\, “Death’s Garden Revisited: Personal Relationships with Cemeteries.” Currently\, Robin is a member of the Board of Directors for the Association of Gravestone Studies and the Wake County Historical Society. Robin and her husband Jeff live in Rolesville with their son\, Cullen. \nBUY TICKETS  \nCheck out the upcoming movies and learn more about Museum Movie Night: Where Science Meets the Cinema. \n\n\n \n\nBeetlejuice — Rated PG\n\nMichael Keaton\, Academy Award winner Geena Davis\, Alex Baldwin and Winona Ryder star in director Tim Burton’s comic twist on supernatural horror tales — “Beetlejuice.” When a couple of nice\, young homebody ghosts (Baldwin and Davis) try to haunt the pretentious humans who have moved into their house\, they ask for help from a demonic wraith (Keaton) they cannot control in this comic fantasy that mixes the quick and the dead with a laugh and a fright.\n\n\n\n\n\n\n\n\n\n\n\nSCIENCE STATIONS (5:30–7PM)\nGiant Snakes\nHollywood thinks giant snakes are bloodthirsty killers but what does science say? Check out the relative sizes of real giant snakes and see how big you are compared to “Titanoboa\,” the largest snake that has ever lived! \nShrinky Dinks\nInspired by the shrunken heads in “Beetlejuice\,” we’ll be shrinking our own creations! \nSuperflies\nFlies\, it seems\, are everywhere we are on Earth and they have an enormous impact on our health and on the health of the natural environment. Mosquitoes\, house flies\, fruit flies\, gnats and horse flies are only a few of the thousands of kinds of flies that are companions with us on the planet. At this table explore flies and fly diversity with a close look at their biology\, behavior\, and tiny intricate and bizarre eyes\, hairs and wings. \nEctoplasm\nCreate some spooooky ectoplasm to take home! \nX-Ray Craft\nDo you know how X-rays work? Come learn about the science of radiographs and make a fun X-ray craft of your own! \nDecomposers\nCome check out some beetles and beetle larvae eating something a bit strange and unusual — Styrofoam! \n  \n\nMUSIC (5:30–7PM)\n\n\nWilliam Woltz (voice\, guitar\, mandolin) is a North Carolina native who’s all over the map musically. He grew up loving both the Beatles and Buck Owens\, and has studied jazz and classical guitar. Over the last four decades he has played a lot of blues\, beach music and singer/songwriter material as well as playing in the pit orchestra for community theater productions. Will performs with Sara Monroe and Jim Loos in the trio Loos Change\, based in Raleigh\, and violinist and songwriter Angela DiPaolo. \n\n\nFOOD & DRINK (6-7pm)\nAvailable for purchase will be hotdogs\, Greek salad\, chips\, pastries and popcorn! \n  \n 
URL:https://naturalsciences.org/calendar/event/museum-movie-night-beetlejuice/
LOCATION:Downtown Raleigh\, 11 West Jones Street\, Raleigh\, NC\, 27601\, United States
CATEGORIES:Adults,General Events,Movies,Museum Movie Night,Teens,WRAL 3D Theater
ATTACH;FMTTYPE=image/jpeg:https://naturalsciences.org/calendar/wp-content/uploads/2022/06/Beetlejuice.jpg
ORGANIZER;CN="Miranda%20Dowdy":MAILTO:miranda.dowdy@naturalsciences.org
GEO:35.7822735;-78.6395502
X-APPLE-STRUCTURED-LOCATION;VALUE=URI;X-ADDRESS=Downtown Raleigh 11 West Jones Street Raleigh NC 27601 United States;X-APPLE-RADIUS=500;X-TITLE=11 West Jones Street:geo:-78.6395502,35.7822735
END:VEVENT
BEGIN:VEVENT
DTSTART;TZID=America/New_York:20221014T190000
DTEND;TZID=America/New_York:20221014T210000
DTSTAMP:20260421T013724
CREATED:20220706T202822Z
LAST-MODIFIED:20220707T141613Z
UID:75325-1665774000-1665781200@naturalsciences.org
SUMMARY:Raleigh Astronomy Club Monthly Lecture: Big Sky Astronomy
DESCRIPTION:Silhouetted against the majestic Milky Way\, stately mountains peer down across pristine lakes\, icy glaciers and lush valleys of green to provide a panorama of unparalleled grandeur and beauty that must be experienced rather than seen.  Follow along mountain trails that lead into the night sky as Raleigh Astronomy Club member and NASA/JPL Solar System Ambassador Doug Lively takes us on a journey through a summer of Big Sky Astronomy at Glacier National Park.
URL:https://naturalsciences.org/calendar/event/raleigh-astronomy-club-monthly-lecture-big-sky-astronomy/
LOCATION:Downtown Raleigh\, 11 West Jones Street\, Raleigh\, NC\, 27601\, United States
CATEGORIES:Adults,All Ages,Children,Lectures,Teens
GEO:35.7822735;-78.6395502
X-APPLE-STRUCTURED-LOCATION;VALUE=URI;X-ADDRESS=Downtown Raleigh 11 West Jones Street Raleigh NC 27601 United States;X-APPLE-RADIUS=500;X-TITLE=11 West Jones Street:geo:-78.6395502,35.7822735
END:VEVENT
END:VCALENDAR