BEGIN:VCALENDAR
VERSION:2.0
PRODID:-//Programs and Events Calendar - ECPv5.9.0//NONSGML v1.0//EN
CALSCALE:GREGORIAN
METHOD:PUBLISH
X-WR-CALNAME:Programs and Events Calendar
X-ORIGINAL-URL:https://naturalsciences.org/calendar
X-WR-CALDESC:Events for Programs and Events Calendar
BEGIN:VTIMEZONE
TZID:America/New_York
BEGIN:DAYLIGHT
TZOFFSETFROM:-0500
TZOFFSETTO:-0400
TZNAME:EDT
DTSTART:20220313T070000
END:DAYLIGHT
BEGIN:STANDARD
TZOFFSETFROM:-0400
TZOFFSETTO:-0500
TZNAME:EST
DTSTART:20221106T060000
END:STANDARD
END:VTIMEZONE
BEGIN:VEVENT
DTSTART;TZID=America/New_York:20220513T060000
DTEND;TZID=America/New_York:20220513T090000
DTSTAMP:20260421T081030
CREATED:20220421T153422Z
LAST-MODIFIED:20220421T153422Z
UID:70859-1652421600-1652432400@naturalsciences.org
SUMMARY:Early Birds at Prairie Ridge
DESCRIPTION:Everyone knows the best birding happens early in the morning\, so we are pleased to welcome Early Birds at Prairie Ridge! Bring your own binoculars or camera and stop by before we open to enjoy our early morning birds. No pre-registration is required and you’re welcome to arrive as early as 6am! Rain cancels event.
URL:https://naturalsciences.org/calendar/event/early-birds-at-prairie-ridge-2/
LOCATION:Prairie Ridge\, 1671 Gold Star Drive\, Raleigh\, NC\, 27607\, United States
CATEGORIES:Adults,All Ages,Children,Educators,K-12 Students,Teens
ORGANIZER;CN="Julie%20Hall":MAILTO:julie.hall@naturalsciences.org
GEO:35.812182885871;-78.713963528554
X-APPLE-STRUCTURED-LOCATION;VALUE=URI;X-ADDRESS=Prairie Ridge 1671 Gold Star Drive Raleigh NC 27607 United States;X-APPLE-RADIUS=500;X-TITLE=1671 Gold Star Drive:geo:-78.713963528554,35.812182885871
END:VEVENT
BEGIN:VEVENT
DTSTART;TZID=America/New_York:20220513T180000
DTEND;TZID=America/New_York:20220513T210000
DTSTAMP:20260421T081030
CREATED:20220315T204950Z
LAST-MODIFIED:20220511T181307Z
UID:70108-1652464800-1652475600@naturalsciences.org
SUMMARY:Member Preview: Life Before Dinosaurs
DESCRIPTION:Step back in time 290 million years to the age before the dinosaurs. Explore vivid artwork\, mounted skeletons and life-sized models of a giant saber-toothed predator\, whorl-toothed shark\, and many other bizarre creatures that dominated life on land and sea before the most devastating mass extinction the world has ever known. \nAt the member-exclusive preview\, discover the weird and wonderful life of the Permian\, including sail backs\, saw jaws and boomerang heads with Dr. Christian Kammerer\, Research Curator of Paleontology. Then\, enjoy a sneak peek of Life Before Dinosaurs: The Permian Monsters special exhibition before it opens to the public on May 14. \nLecture begins at 6pm in the WRAL 3D Theater. Exhibition open 7–9pm. \nCurrent membership and preregistration required.  Recommended for ages 10+\, but all ages welcome. Not a member yet? Join today! \nREGISTRATION IS FULL FOR THIS EVENT
URL:https://naturalsciences.org/calendar/event/member-preview-life-before-dinosaurs/
LOCATION:Downtown Raleigh\, 11 West Jones Street\, Raleigh\, NC\, 27601\, United States
CATEGORIES:Adults,All Ages,Children,Member Exclusive,Teens
ORGANIZER;CN="Katie%20Cupp":MAILTO:Katie.Cupp@naturalsciences.org
GEO:35.7822735;-78.6395502
X-APPLE-STRUCTURED-LOCATION;VALUE=URI;X-ADDRESS=Downtown Raleigh 11 West Jones Street Raleigh NC 27601 United States;X-APPLE-RADIUS=500;X-TITLE=11 West Jones Street:geo:-78.6395502,35.7822735
END:VEVENT
END:VCALENDAR