BEGIN:VCALENDAR
VERSION:2.0
PRODID:-//Programs and Events Calendar - ECPv5.9.0//NONSGML v1.0//EN
CALSCALE:GREGORIAN
METHOD:PUBLISH
X-WR-CALNAME:Programs and Events Calendar
X-ORIGINAL-URL:https://naturalsciences.org/calendar
X-WR-CALDESC:Events for Programs and Events Calendar
BEGIN:VTIMEZONE
TZID:America/New_York
BEGIN:DAYLIGHT
TZOFFSETFROM:-0500
TZOFFSETTO:-0400
TZNAME:EDT
DTSTART:20210314T070000
END:DAYLIGHT
BEGIN:STANDARD
TZOFFSETFROM:-0400
TZOFFSETTO:-0500
TZNAME:EST
DTSTART:20211107T060000
END:STANDARD
END:VTIMEZONE
BEGIN:VEVENT
DTSTART;TZID=America/New_York:20211117T120000
DTEND;TZID=America/New_York:20211117T130000
DTSTAMP:20260421T164305
CREATED:20211102T211357Z
LAST-MODIFIED:20211102T211357Z
UID:66431-1637150400-1637154000@naturalsciences.org
SUMMARY:Lunchtime Discovery: Stars\, Strawberries and Selu: An Indigenous Approach to Science
DESCRIPTION:Katlin Roberts and Jessica Metz\, Teachers at New Kituwah Academy\, Cherokee NC \nDiscover the rich science embedded within traditional stories. Learn how Indigenous Ways of Knowing and contemporary science together can create a more inclusive view of all that is science. During the session we will explore Cherokee stories and how they depict environmental observations and knowledge passed through generations. Talk with NC educators who are working to decolonize science in a variety of settings\, and learn about the benefits it can bring to your own educational programs. \nJoin us on YouTube! \n\nLive Virtual Presentation hosted by NC Museum of Natural Sciences’ SECU Daily Planet Curator Chris Smith and the NC Department of Environmental Quality Office of Environmental Education and Public Affairs staff. \nYou can post questions in the YouTube chat or tweet questions to #LunchTimeDiscovery and mention @NorthCarolinaEE. \nBrought to you by the NC DEQ Office of Environmental Education and Public Affairs and the NC Museum of Natural Sciences.
URL:https://naturalsciences.org/calendar/event/lunchtime-discovery-stars-strawberries-and-selu-an-indigenous-approach-to-science/
LOCATION:Virtual\, NC\, United States
CATEGORIES:Adults,Discussions,Downtown Raleigh,Lectures,Lunchtime Discovery,Teens,Virtual
ORGANIZER;CN="Chris%20Smith":MAILTO:christopher.smith@naturalsciences.org
END:VEVENT
BEGIN:VEVENT
DTSTART;TZID=America/New_York:20211117T143000
DTEND;TZID=America/New_York:20211117T153000
DTSTAMP:20260421T164305
CREATED:20211103T181919Z
LAST-MODIFIED:20211104T151451Z
UID:66453-1637159400-1637163000@naturalsciences.org
SUMMARY:Hike With a Naturalist
DESCRIPTION:Explore the changing seasons at Prairie Ridge as you walk with one of our experienced naturalists! You’ll learn about the many plants and animals that live at Prairie Ridge on this casual walk best suited to ages 5+. \nThis program requires pre-registration and is limited to 20 people! Register by completing the form here: https://3947.blackbaudhosting.com/3947/Hike-with-a-Naturalist \nBring a filled water bottle\, dress for the weather\, wear closed-toed shoes\, and be ready to walk up to a mile. Meet us at the entrance kiosk! \nBecause this program will have children present\, masks are required for all participants whenever we cannot remain 6 feet apart. Thank you for helping keep our children safe! We will observe social distancing recommendations and follow all state-mandated COVID restrictions. \nNOTICE TO CHILDREN AND GUARDIANS \nIf you are under age 13 and you wish to participate in certain events or exhibits at\, conducted by\, or sponsored by the North Carolina Museum of Natural Sciences\, your parent or guardian must register you and provide their consent as well as your information. Please see our privacy policy at http://naturalsciences.org/about/privacy-information for additional information.
URL:https://naturalsciences.org/calendar/event/hike-with-a-naturalist/
LOCATION:Prairie Ridge\, 1671 Gold Star Drive\, Raleigh\, NC\, 27607\, United States
CATEGORIES:Adults,All Ages,Children,Educators,General Events,K-12 Students,Teens
ORGANIZER;CN="Adam%20Prince":MAILTO:adam.prince@naturalsciences.org
GEO:35.812182885871;-78.713963528554
X-APPLE-STRUCTURED-LOCATION;VALUE=URI;X-ADDRESS=Prairie Ridge 1671 Gold Star Drive Raleigh NC 27607 United States;X-APPLE-RADIUS=500;X-TITLE=1671 Gold Star Drive:geo:-78.713963528554,35.812182885871
END:VEVENT
END:VCALENDAR