BEGIN:VCALENDAR
VERSION:2.0
PRODID:-//Programs and Events Calendar - ECPv5.9.0//NONSGML v1.0//EN
CALSCALE:GREGORIAN
METHOD:PUBLISH
X-WR-CALNAME:Programs and Events Calendar
X-ORIGINAL-URL:https://naturalsciences.org/calendar
X-WR-CALDESC:Events for Programs and Events Calendar
BEGIN:VTIMEZONE
TZID:America/New_York
BEGIN:DAYLIGHT
TZOFFSETFROM:-0500
TZOFFSETTO:-0400
TZNAME:EDT
DTSTART:20210314T070000
END:DAYLIGHT
BEGIN:STANDARD
TZOFFSETFROM:-0400
TZOFFSETTO:-0500
TZNAME:EST
DTSTART:20211107T060000
END:STANDARD
END:VTIMEZONE
BEGIN:VEVENT
DTSTART;TZID=America/New_York:20210623T120000
DTEND;TZID=America/New_York:20210623T130000
DTSTAMP:20260422T001345
CREATED:20210604T172620Z
LAST-MODIFIED:20210604T172620Z
UID:63235-1624449600-1624453200@naturalsciences.org
SUMMARY:Lunchtime Discovery: Pollinator Paradise Garden Virtual Tour
DESCRIPTION:Virtual Tour of Chatham County’s Famous Pollinator Paradise Garden with Debbie Roos\nDebbie Roos\, Agricultural Extension Agent\, Chatham County Center\, Carolina Cooperative Extension \nThere is a special garden in North Carolina that draws visitors from all over the state. Join Debbie Roos as she takes us on a virtual tour of her famous Pollinator Paradise Garden in Chatham County. Learn more about what’s in bloom right now and more about some of Debbie’s favorite plants\, including her top native pollinator plants. You can also ask Debbie for her tips of the trade during the Q&A session! \nJoin us on YouTube! \n\nLive Virtual Presentation hosted by N.C. Museum of Natural Sciences Daily Planet Curator Chris Smith and the N.C. Department of Environmental Quality Office of Environmental Education and Public Affairs staff. \nYou can post questions in the YouTube chat or tweet questions to #LunchTimeDiscovery and mention @NorthCarolinaEE. \nBrought to you by the NC DEQ Office of Environmental Education and Public Affairs and the NC Museum of Natural Sciences.
URL:https://naturalsciences.org/calendar/event/lunchtime-discovery-pollinator-paradise-garden-virtual-tour/
LOCATION:Virtual\, NC\, United States
CATEGORIES:Adults,Downtown Raleigh,General Events,Lunchtime Discovery,Teens,Virtual
ORGANIZER;CN="Chris%20Smith":MAILTO:christopher.smith@naturalsciences.org
END:VEVENT
END:VCALENDAR