BEGIN:VCALENDAR
VERSION:2.0
PRODID:-//Programs and Events Calendar - ECPv5.9.0//NONSGML v1.0//EN
CALSCALE:GREGORIAN
METHOD:PUBLISH
X-WR-CALNAME:Programs and Events Calendar
X-ORIGINAL-URL:https://naturalsciences.org/calendar
X-WR-CALDESC:Events for Programs and Events Calendar
BEGIN:VTIMEZONE
TZID:America/New_York
BEGIN:DAYLIGHT
TZOFFSETFROM:-0500
TZOFFSETTO:-0400
TZNAME:EDT
DTSTART:20210314T070000
END:DAYLIGHT
BEGIN:STANDARD
TZOFFSETFROM:-0400
TZOFFSETTO:-0500
TZNAME:EST
DTSTART:20211107T060000
END:STANDARD
END:VTIMEZONE
BEGIN:VEVENT
DTSTART;TZID=America/New_York:20210602T120000
DTEND;TZID=America/New_York:20210602T130000
DTSTAMP:20260422T001328
CREATED:20210526T180926Z
LAST-MODIFIED:20210526T185844Z
UID:63095-1622635200-1622638800@naturalsciences.org
SUMMARY:Lunchtime Discovery: Heat Island Effects and You
DESCRIPTION:Max Cawley\, Museum of Life and Science\nChris Goforth\, North Carolina Museum of Natural Sciences\nMyleigh Neill\, State Climate Office of North Carolina \nCities trap a lot of heat\, causing a phenomenon known as the heat island effect. Learn about heat islands\, their impacts on cities\, and how you can help us learn more about heat islands in the Raleigh-Durham area this summer as we take part in the 2021 NIHHIS–CAPA Heat Watch Campaign. \nJoin us on YouTube! \n\nLive Virtual Presentation hosted by N.C. Museum of Natural Sciences Daily Planet Curator Chris Smith and the N.C. Department of Environmental Quality Office of Environmental Education and Public Affairs staff. \nYou can post questions in the YouTube chat or tweet questions to #LunchTimeDiscovery and mention @NorthCarolinaEE. \nBrought to you by the NC DEQ Office of Environmental Education and Public Affairs and the NC Museum of Natural Sciences.
URL:https://naturalsciences.org/calendar/event/lunchtime-discovery-heat-island-effects-and-you/
LOCATION:Virtual\, NC\, United States
CATEGORIES:Adults,Downtown Raleigh,General Events,Lunchtime Discovery,Teens,Virtual
ORGANIZER;CN="Chris%20Smith":MAILTO:christopher.smith@naturalsciences.org
END:VEVENT
END:VCALENDAR