BEGIN:VCALENDAR
VERSION:2.0
PRODID:-//Programs and Events Calendar - ECPv5.9.0//NONSGML v1.0//EN
CALSCALE:GREGORIAN
METHOD:PUBLISH
X-WR-CALNAME:Programs and Events Calendar
X-ORIGINAL-URL:https://naturalsciences.org/calendar
X-WR-CALDESC:Events for Programs and Events Calendar
BEGIN:VTIMEZONE
TZID:America/New_York
BEGIN:DAYLIGHT
TZOFFSETFROM:-0500
TZOFFSETTO:-0400
TZNAME:EDT
DTSTART:20260308T070000
END:DAYLIGHT
BEGIN:STANDARD
TZOFFSETFROM:-0400
TZOFFSETTO:-0500
TZNAME:EST
DTSTART:20261101T060000
END:STANDARD
END:VTIMEZONE
BEGIN:VEVENT
DTSTART;TZID=America/New_York:20260515T103000
DTEND;TZID=America/New_York:20260515T110000
DTSTAMP:20260421T162816
CREATED:20260112T191517Z
LAST-MODIFIED:20260225T164050Z
UID:118016-1778841000-1778842800@naturalsciences.org
SUMMARY:Story Time at the Museum
DESCRIPTION:This is a free program beginning at 10:30am in the Windows on the World classroom\, located on the 3rd floor of the Nature Exploration Center in downtown Raleigh. Story time is designed especially for children 5 and younger and books are chosen with this age group in mind. Please note that we do not guarantee the opportunity to touch live animals during this program. \nFor more information contact Emma Feichter at emma.feichter@naturalsciences.org or 919.707.9956.
URL:https://naturalsciences.org/calendar/event/story-time-at-the-museum-2-2026-01-23/2026-05-15/
LOCATION:Downtown Raleigh\, 11 West Jones Street\, Raleigh\, NC\, 27601\, United States
CATEGORIES:Children
ATTACH;FMTTYPE=image/jpeg:https://naturalsciences.org/calendar/wp-content/uploads/2025/09/storytime-image-scaled.jpg
GEO:35.7822735;-78.6395502
X-APPLE-STRUCTURED-LOCATION;VALUE=URI;X-ADDRESS=Downtown Raleigh 11 West Jones Street Raleigh NC 27601 United States;X-APPLE-RADIUS=500;X-TITLE=11 West Jones Street:geo:-78.6395502,35.7822735
END:VEVENT
BEGIN:VEVENT
DTSTART;TZID=America/New_York:20260515T104500
DTEND;TZID=America/New_York:20260515T110000
DTSTAMP:20260421T162816
CREATED:20260324T131950Z
LAST-MODIFIED:20260324T131950Z
UID:120047-1778841900-1778842800@naturalsciences.org
SUMMARY:Live Animal Feeding – Ocean Habitat
DESCRIPTION:Join us for a live feeding of the marine life in the Our Changing Oceans aquarium and meet our Living Collections staff. Species currently in our 10\,000-gallon aquarium include: \n\nAngelfish (gray\, French)\nTangs (Atlantic blue\, ocean surgeon\, doctorfish)\nGrunts (bluestriped\, French\, porkfish)\nBalloonfish\nLobsters\n\nThis walk-up program is offered: \n\nWednesday & Friday — 10:45am\n\nLocation: Nature Research Center\, 1st floor\, Our Changing Oceans exhibit. \nNo registration required.
URL:https://naturalsciences.org/calendar/event/live-animal-feeding-ocean-habitat-4/2026-05-15/
LOCATION:Downtown Raleigh\, 11 West Jones Street\, Raleigh\, NC\, 27601\, United States
CATEGORIES:Adults,All Ages,Children,Live Animals,Teens,Walk-up Programs
GEO:35.7822735;-78.6395502
X-APPLE-STRUCTURED-LOCATION;VALUE=URI;X-ADDRESS=Downtown Raleigh 11 West Jones Street Raleigh NC 27601 United States;X-APPLE-RADIUS=500;X-TITLE=11 West Jones Street:geo:-78.6395502,35.7822735
END:VEVENT
BEGIN:VEVENT
DTSTART;TZID=America/New_York:20260515T130000
DTEND;TZID=America/New_York:20260515T150000
DTSTAMP:20260421T162816
CREATED:20260417T035439Z
LAST-MODIFIED:20260417T040658Z
UID:120443-1778850000-1778857200@naturalsciences.org
SUMMARY:Let’s Make Maps!
DESCRIPTION:Do you love looking at maps\, curious about how people make maps\, or wanted to make your own? Join us for a special program for ages 12+ where we learn about some of the many ways people have constructed maps throughout history and create our own maps of Prairie Ridge. Through the context of maps\, we will also learn about ways that you can contribute to collaborative science projects working to actively understand and conserve ecosystems here and around the world. We will meet at the building adjacent to the parking lot before heading down to the outdoor classroom. Come dressed for the weather and ready for about a half mile of walking. \nRegistration is required to attend this program. \nRegister
URL:https://naturalsciences.org/calendar/event/lets-make-maps/
LOCATION:Prairie Ridge\, 1671 Gold Star Drive\, Raleigh\, NC\, 27607\, United States
CATEGORIES:Adults,Citizen Science,Educators,K-12 Students,Outdoor Experiences,Teens
ORGANIZER;CN="Lucie%20Ciccone":MAILTO:lucie.ciccone@naturalsciences.org
GEO:35.812182885871;-78.713963528554
X-APPLE-STRUCTURED-LOCATION;VALUE=URI;X-ADDRESS=Prairie Ridge 1671 Gold Star Drive Raleigh NC 27607 United States;X-APPLE-RADIUS=500;X-TITLE=1671 Gold Star Drive:geo:-78.713963528554,35.812182885871
END:VEVENT
BEGIN:VEVENT
DTSTART;TZID=America/New_York:20260515T133000
DTEND;TZID=America/New_York:20260515T140000
DTSTAMP:20260421T162816
CREATED:20260324T124501Z
LAST-MODIFIED:20260324T124501Z
UID:119966-1778851800-1778853600@naturalsciences.org
SUMMARY:Incredible Science
DESCRIPTION:Join us for an entertaining half hour of science experiments and demonstrations. Day-to-day topics vary but often include physics and chemistry demonstrations on inertia\, buoyancy and electromagnetism. Enjoy natural science topics such as the incredible composition of beaver teeth or the amazing design and strength of birds’ eggs. \nThis walk-up program is offered: \n\nWednesdays — 1:30pm\nThursdays — 1:30pm\nFridays — 1:30pm\nSaturdays — 12:30pm\, 2pm\n\nLocation: Windows on the World on the 3rd floor of the Nature Exploration Center. \nDesigned for ages 7 and up. No registration required.
URL:https://naturalsciences.org/calendar/event/incredible-science-5/2026-05-15/
LOCATION:Downtown Raleigh\, 11 West Jones Street\, Raleigh\, NC\, 27601\, United States
CATEGORIES:Adults,All Ages,Children,Teens,Walk-up Programs,Windows on the World
GEO:35.7822735;-78.6395502
X-APPLE-STRUCTURED-LOCATION;VALUE=URI;X-ADDRESS=Downtown Raleigh 11 West Jones Street Raleigh NC 27601 United States;X-APPLE-RADIUS=500;X-TITLE=11 West Jones Street:geo:-78.6395502,35.7822735
END:VEVENT
BEGIN:VEVENT
DTSTART;TZID=America/New_York:20260515T183000
DTEND;TZID=America/New_York:20260515T220000
DTSTAMP:20260421T162816
CREATED:20260225T204333Z
LAST-MODIFIED:20260409T192759Z
UID:119531-1778869800-1778882400@naturalsciences.org
SUMMARY:Adult Nights: Social in the Shire
DESCRIPTION:One Event to Rule Them All\n\nActivities\n\nGather up your Fellowship as the Museum becomes Middle Earth for a night. Lay siege to Gondor\, dance with dragons and show off your Tolkien trivia at this adults 21+ event. \nEnjoy a unique opportunity to experience the Museum at night while exploring the uncensored side of science. The event features interactive science stations\, music\, games\, local entertainment and special activities. Beer\, wine\, themed cocktails and food will be available for purchase. Costumes encouraged (but not required). \nTickets: $25; $15 Members. You must be 21 years or older to attend. A photo ID is required for entry. \n  \nBUY TICKETS \n\n \nCOSTUME POLICY \n\nGuests wearing masks must remove them during check-in. They can then wear them during the event.\n\n  \n\nOutfits should not contain elements that resemble or could be mistaken for a real weapon.\n\n  \n\nWe reserve the right to refuse a guest wearing a costume deemed offensive or unsafe.\n\n  \n\nAny face or body paint must not obscure an attendee’s identity.\n\n\nFootwear is required.\n\n 
URL:https://naturalsciences.org/calendar/event/adult-nights-social-in-the-shire-2/
LOCATION:Downtown Raleigh\, 11 West Jones Street\, Raleigh\, NC\, 27601\, United States
CATEGORIES:Adult Nights,Adults,General Events,Special Events
ORGANIZER;CN="Miranda%20Dowdy":MAILTO:miranda.dowdy@naturalsciences.org
GEO:35.7822735;-78.6395502
X-APPLE-STRUCTURED-LOCATION;VALUE=URI;X-ADDRESS=Downtown Raleigh 11 West Jones Street Raleigh NC 27601 United States;X-APPLE-RADIUS=500;X-TITLE=11 West Jones Street:geo:-78.6395502,35.7822735
END:VEVENT
END:VCALENDAR