BEGIN:VCALENDAR
VERSION:2.0
PRODID:-//Programs and Events Calendar - ECPv5.9.0//NONSGML v1.0//EN
CALSCALE:GREGORIAN
METHOD:PUBLISH
X-WR-CALNAME:Programs and Events Calendar
X-ORIGINAL-URL:https://naturalsciences.org/calendar
X-WR-CALDESC:Events for Programs and Events Calendar
BEGIN:VTIMEZONE
TZID:America/New_York
BEGIN:DAYLIGHT
TZOFFSETFROM:-0500
TZOFFSETTO:-0400
TZNAME:EDT
DTSTART:20260308T070000
END:DAYLIGHT
BEGIN:STANDARD
TZOFFSETFROM:-0400
TZOFFSETTO:-0500
TZNAME:EST
DTSTART:20261101T060000
END:STANDARD
END:VTIMEZONE
BEGIN:VEVENT
DTSTART;TZID=America/New_York:20260513T104500
DTEND;TZID=America/New_York:20260513T110000
DTSTAMP:20260421T150628
CREATED:20260324T131950Z
LAST-MODIFIED:20260324T131950Z
UID:120046-1778669100-1778670000@naturalsciences.org
SUMMARY:Live Animal Feeding – Ocean Habitat
DESCRIPTION:Join us for a live feeding of the marine life in the Our Changing Oceans aquarium and meet our Living Collections staff. Species currently in our 10\,000-gallon aquarium include: \n\nAngelfish (gray\, French)\nTangs (Atlantic blue\, ocean surgeon\, doctorfish)\nGrunts (bluestriped\, French\, porkfish)\nBalloonfish\nLobsters\n\nThis walk-up program is offered: \n\nWednesday & Friday — 10:45am\n\nLocation: Nature Research Center\, 1st floor\, Our Changing Oceans exhibit. \nNo registration required.
URL:https://naturalsciences.org/calendar/event/live-animal-feeding-ocean-habitat-4/2026-05-13/
LOCATION:Downtown Raleigh\, 11 West Jones Street\, Raleigh\, NC\, 27601\, United States
CATEGORIES:Adults,All Ages,Children,Live Animals,Teens,Walk-up Programs
GEO:35.7822735;-78.6395502
X-APPLE-STRUCTURED-LOCATION;VALUE=URI;X-ADDRESS=Downtown Raleigh 11 West Jones Street Raleigh NC 27601 United States;X-APPLE-RADIUS=500;X-TITLE=11 West Jones Street:geo:-78.6395502,35.7822735
END:VEVENT
BEGIN:VEVENT
DTSTART;TZID=America/New_York:20260513T133000
DTEND;TZID=America/New_York:20260513T140000
DTSTAMP:20260421T150628
CREATED:20260324T124501Z
LAST-MODIFIED:20260324T124501Z
UID:119964-1778679000-1778680800@naturalsciences.org
SUMMARY:Incredible Science
DESCRIPTION:Join us for an entertaining half hour of science experiments and demonstrations. Day-to-day topics vary but often include physics and chemistry demonstrations on inertia\, buoyancy and electromagnetism. Enjoy natural science topics such as the incredible composition of beaver teeth or the amazing design and strength of birds’ eggs. \nThis walk-up program is offered: \n\nWednesdays — 1:30pm\nThursdays — 1:30pm\nFridays — 1:30pm\nSaturdays — 12:30pm\, 2pm\n\nLocation: Windows on the World on the 3rd floor of the Nature Exploration Center. \nDesigned for ages 7 and up. No registration required.
URL:https://naturalsciences.org/calendar/event/incredible-science-5/2026-05-13/
LOCATION:Downtown Raleigh\, 11 West Jones Street\, Raleigh\, NC\, 27601\, United States
CATEGORIES:Adults,All Ages,Children,Teens,Walk-up Programs,Windows on the World
GEO:35.7822735;-78.6395502
X-APPLE-STRUCTURED-LOCATION;VALUE=URI;X-ADDRESS=Downtown Raleigh 11 West Jones Street Raleigh NC 27601 United States;X-APPLE-RADIUS=500;X-TITLE=11 West Jones Street:geo:-78.6395502,35.7822735
END:VEVENT
BEGIN:VEVENT
DTSTART;TZID=America/New_York:20260513T160000
DTEND;TZID=America/New_York:20260513T170000
DTSTAMP:20260421T150628
CREATED:20260421T183616Z
LAST-MODIFIED:20260421T184107Z
UID:120543-1778688000-1778691600@naturalsciences.org
SUMMARY:Reptile and Amphibian Adaptations
DESCRIPTION:How do turtles survive underwater without oxygen for days on end? How do snakes climb\, swim\, and slither? What is brumation? In this virtual ecoEXPLORE program we will talk about some of the many fascinating adaptations that reptiles and amphibians have evolved in order to survive extreme environments and to sense and navigate the world around them. \nThis program is aimed at kids in grades K-8 interested in being a part of the ecoEXPLORE collaborative science project\, but all are welcome. \nRegister
URL:https://naturalsciences.org/calendar/event/herp-adaptations/
LOCATION:Virtual\, NC\, United States
CATEGORIES:Children,Citizen Science,ecoEXPLORE,K-12 Students,Teens,Virtual
ORGANIZER;CN="ecoEXPLORE%20Team":MAILTO:ecoexplore@naturalsciences.org
END:VEVENT
END:VCALENDAR