BEGIN:VCALENDAR
VERSION:2.0
PRODID:-//Programs and Events Calendar - ECPv5.9.0//NONSGML v1.0//EN
CALSCALE:GREGORIAN
METHOD:PUBLISH
X-WR-CALNAME:Programs and Events Calendar
X-ORIGINAL-URL:https://naturalsciences.org/calendar
X-WR-CALDESC:Events for Programs and Events Calendar
BEGIN:VTIMEZONE
TZID:America/New_York
BEGIN:DAYLIGHT
TZOFFSETFROM:-0500
TZOFFSETTO:-0400
TZNAME:EDT
DTSTART:20260308T070000
END:DAYLIGHT
BEGIN:STANDARD
TZOFFSETFROM:-0400
TZOFFSETTO:-0500
TZNAME:EST
DTSTART:20261101T060000
END:STANDARD
END:VTIMEZONE
BEGIN:VEVENT
DTSTART;TZID=America/New_York:20260319T103000
DTEND;TZID=America/New_York:20260319T110000
DTSTAMP:20260421T150500
CREATED:20260126T191245Z
LAST-MODIFIED:20260327T114525Z
UID:118436-1773916200-1773918000@naturalsciences.org
SUMMARY:Nature Storytime (Whiteville)
DESCRIPTION:Join us in the Discovery Forest at the Museum at Whiteville for a family-friendly\, natural science story and fun activities. Families with children of all ages are welcome with books chosen for ages 4-7. No registration required. \nNote: Each week will feature the same Storytime program on Thursday and Saturday. Check our calendar to see the event series schedule. \nFor more information\, please call the Museum at Whiteville: 910-788-5100.
URL:https://naturalsciences.org/calendar/event/nature-storytime-whiteville-2/2026-03-19/
LOCATION:Whiteville\, 415 South Madison Street\, Whiteville\, NC\, 28472\, United States
CATEGORIES:Children
GEO:34.3258479;-78.7027078
X-APPLE-STRUCTURED-LOCATION;VALUE=URI;X-ADDRESS=Whiteville 415 South Madison Street Whiteville NC 28472 United States;X-APPLE-RADIUS=500;X-TITLE=415 South Madison Street:geo:-78.7027078,34.3258479
END:VEVENT
BEGIN:VEVENT
DTSTART;TZID=America/New_York:20260319T123000
DTEND;TZID=America/New_York:20260319T130000
DTSTAMP:20260421T150500
CREATED:20250110T175052Z
LAST-MODIFIED:20260319T141449Z
UID:119103-1773923400-1773925200@naturalsciences.org
SUMMARY:Science TODAY
DESCRIPTION:Go inside the globe of the SECU Daily Planet Theater for live presentations and interactive shows led by scientists and educators. Meet researchers\, witness live demonstrations\, and engage in Q&A sessions with experts. With ever-changing topics and guests\, there’s always something new and exciting to learn.
URL:https://naturalsciences.org/calendar/event/science-today-march-2026-2026-03-06-2026-03-19/
LOCATION:Nature Research Center\, 121 West Jones Street\, Raleigh\, NC\, 27601\, United States
CATEGORIES:Adults,All Ages,Children,Daily Programs,Discussions,Lectures,Meet the Scientist,SECU Daily Planet Theater,Walk-up Programs
ORGANIZER;CN="Chris%20Smith":MAILTO:christopher.smith@naturalsciences.org
GEO:35.7822405;-78.6409677
X-APPLE-STRUCTURED-LOCATION;VALUE=URI;X-ADDRESS=Nature Research Center 121 West Jones Street Raleigh NC 27601 United States;X-APPLE-RADIUS=500;X-TITLE=121 West Jones Street:geo:-78.6409677,35.7822405
END:VEVENT
END:VCALENDAR