BEGIN:VCALENDAR
VERSION:2.0
PRODID:-//Programs and Events Calendar - ECPv5.9.0//NONSGML v1.0//EN
CALSCALE:GREGORIAN
METHOD:PUBLISH
X-WR-CALNAME:Programs and Events Calendar
X-ORIGINAL-URL:https://naturalsciences.org/calendar
X-WR-CALDESC:Events for Programs and Events Calendar
BEGIN:VTIMEZONE
TZID:America/New_York
BEGIN:DAYLIGHT
TZOFFSETFROM:-0500
TZOFFSETTO:-0400
TZNAME:EDT
DTSTART:20260308T070000
END:DAYLIGHT
BEGIN:STANDARD
TZOFFSETFROM:-0400
TZOFFSETTO:-0500
TZNAME:EST
DTSTART:20261101T060000
END:STANDARD
END:VTIMEZONE
BEGIN:VEVENT
DTSTART;TZID=America/New_York:20260313T103000
DTEND;TZID=America/New_York:20260313T110000
DTSTAMP:20260421T145836
CREATED:20260112T191517Z
LAST-MODIFIED:20260225T164036Z
UID:118008-1773397800-1773399600@naturalsciences.org
SUMMARY:Story Time at the Museum
DESCRIPTION:This is a free program beginning at 10:30am in the Windows on the World classroom\, located on the 3rd floor of the Nature Exploration Center in downtown Raleigh. Story time is designed especially for children 5 and younger and books are chosen with this age group in mind. Please note that we do not guarantee the opportunity to touch live animals during this program. \nFor more information contact Emma Feichter at emma.feichter@naturalsciences.org or 919.707.9956.
URL:https://naturalsciences.org/calendar/event/story-time-at-the-museum-2-2026-01-23/2026-03-13/
LOCATION:Downtown Raleigh\, 11 West Jones Street\, Raleigh\, NC\, 27601\, United States
CATEGORIES:Children
ATTACH;FMTTYPE=image/jpeg:https://naturalsciences.org/calendar/wp-content/uploads/2025/09/storytime-image-scaled.jpg
GEO:35.7822735;-78.6395502
X-APPLE-STRUCTURED-LOCATION;VALUE=URI;X-ADDRESS=Downtown Raleigh 11 West Jones Street Raleigh NC 27601 United States;X-APPLE-RADIUS=500;X-TITLE=11 West Jones Street:geo:-78.6395502,35.7822735
END:VEVENT
BEGIN:VEVENT
DTSTART;TZID=America/New_York:20260313T160000
DTEND;TZID=America/New_York:20260313T170000
DTSTAMP:20260421T145836
CREATED:20260228T182908Z
LAST-MODIFIED:20260228T183318Z
UID:119573-1773417600-1773421200@naturalsciences.org
SUMMARY:Spring Ephemerals
DESCRIPTION:North Carolina is home to many types of amazing plants. Some are “spring ephemerals\,” small plants that go through their entire lifecycle in a very short amount of time right as spring begins. Come learn about Bloodroot\, Trout Lily\, and many more! \nThis virtual program is especially for kids in grades K-8\, but everyone is welcome.  You do not need to join ecoEXPLORE before the program\, but should you choose to create an account for your child so they can get started documenting wildlife for scientists and earning prizes\, visit ecoexplore.net. \nRegister here
URL:https://naturalsciences.org/calendar/event/spring-epehemerals/
LOCATION:Virtual\, NC\, United States
CATEGORIES:Children,Citizen Science,K-12 Students,Virtual
ORGANIZER;CN="ecoEXPLORE%20Team":MAILTO:ecoexplore@naturalsciences.org
END:VEVENT
END:VCALENDAR