BEGIN:VCALENDAR
VERSION:2.0
PRODID:-//Programs and Events Calendar - ECPv5.9.0//NONSGML v1.0//EN
CALSCALE:GREGORIAN
METHOD:PUBLISH
X-WR-CALNAME:Programs and Events Calendar
X-ORIGINAL-URL:https://naturalsciences.org/calendar
X-WR-CALDESC:Events for Programs and Events Calendar
BEGIN:VTIMEZONE
TZID:America/New_York
BEGIN:DAYLIGHT
TZOFFSETFROM:-0500
TZOFFSETTO:-0400
TZNAME:EDT
DTSTART:20250309T070000
END:DAYLIGHT
BEGIN:STANDARD
TZOFFSETFROM:-0400
TZOFFSETTO:-0500
TZNAME:EST
DTSTART:20251102T060000
END:STANDARD
END:VTIMEZONE
BEGIN:VEVENT
DTSTART;TZID=America/New_York:20250128T100000
DTEND;TZID=America/New_York:20250128T120000
DTSTAMP:20260422T111425
CREATED:20241218T135844Z
LAST-MODIFIED:20251028T142618Z
UID:106236-1738058400-1738065600@naturalsciences.org
SUMMARY:Nature Play Day
DESCRIPTION:Come out and play! The Nature PlaySpace will be stocked with extra special materials and supplies to encourage play and a Museum play facilitator will be present to help you play your way. Supplies may vary from week to week\, but may include fun things like fort-building equipment\, puppets and costumes\, bubbles\, paint\, giant blocks\, and more. \nThis is a free\, drop-in event. Staff and supplies will be available from 10:00-12:00. Come dressed for the weather and ready to get messy! Everyone is welcome at the Nature PlaySpace\, but it has been designed especially for kids 7 and younger. \nFor more information\, contact Kiersten Bowser at kiersten.bowser@naturalsciences.org
URL:https://naturalsciences.org/calendar/event/nature-play-day-7-2025-01-28/2025-01-28/
LOCATION:Prairie Ridge\, 1671 Gold Star Drive\, Raleigh\, NC\, 27607\, United States
CATEGORIES:Children,Outdoor Experiences,Walk-up Programs
ORGANIZER;CN="Emma%20Blackford":MAILTO:emma.blackford@naturalsciences.org
GEO:35.812182885871;-78.713963528554
X-APPLE-STRUCTURED-LOCATION;VALUE=URI;X-ADDRESS=Prairie Ridge 1671 Gold Star Drive Raleigh NC 27607 United States;X-APPLE-RADIUS=500;X-TITLE=1671 Gold Star Drive:geo:-78.713963528554,35.812182885871
END:VEVENT
BEGIN:VEVENT
DTSTART;TZID=America/New_York:20250128T110000
DTEND;TZID=America/New_York:20250128T113000
DTSTAMP:20260422T111425
CREATED:20250127T200944Z
LAST-MODIFIED:20250131T200200Z
UID:107044-1738062000-1738063800@naturalsciences.org
SUMMARY:Movie: Moonbase: The Next Step
DESCRIPTION:MOONBASE: The Next Step\nIt’s been more than 50 years since humankind last set foot on the Moon. Now\, we are going back to stay. \n“Moonbase: The Next Step” is the story of this human endeavor – the mission to develop a sustained\, strategic presence on the moon in the next 10 years. \nDiscover the scientific and technological advances needed to safely travel 250\,000 miles and survive the hostile conditions of reduced gravity\, extreme temperatures and toxic lunar dust. Enjoy an immersive experience as we dock\, land and explore the vast lunar landscape using 3D animations and photo-real ‘point-of-view’ visuals. Can we extract water and minerals and grow food to live there on a more permanent basis? Follow this multinational story in “Moonbase: The Next Step.” \nOffered in 2D.  \nBUY TICKETS TO MOONBASE
URL:https://naturalsciences.org/calendar/event/movie-moonbase-the-next-step-4/2025-01-28/
LOCATION:Downtown Raleigh\, 11 West Jones Street\, Raleigh\, NC\, 27601\, United States
CATEGORIES:3D Movies,Adults,All Ages,Children,Downtown Raleigh,Educators,K-12 Students,Movies,Teens,WRAL 3D Theater
GEO:35.7822735;-78.6395502
X-APPLE-STRUCTURED-LOCATION;VALUE=URI;X-ADDRESS=Downtown Raleigh 11 West Jones Street Raleigh NC 27601 United States;X-APPLE-RADIUS=500;X-TITLE=11 West Jones Street:geo:-78.6395502,35.7822735
END:VEVENT
END:VCALENDAR