BEGIN:VCALENDAR
VERSION:2.0
PRODID:-//Programs and Events Calendar - ECPv5.9.0//NONSGML v1.0//EN
CALSCALE:GREGORIAN
METHOD:PUBLISH
X-WR-CALNAME:Programs and Events Calendar
X-ORIGINAL-URL:https://naturalsciences.org/calendar
X-WR-CALDESC:Events for Programs and Events Calendar
BEGIN:VTIMEZONE
TZID:America/New_York
BEGIN:DAYLIGHT
TZOFFSETFROM:-0500
TZOFFSETTO:-0400
TZNAME:EDT
DTSTART:20220313T070000
END:DAYLIGHT
BEGIN:STANDARD
TZOFFSETFROM:-0400
TZOFFSETTO:-0500
TZNAME:EST
DTSTART:20221106T060000
END:STANDARD
END:VTIMEZONE
BEGIN:VEVENT
DTSTART;TZID=America/New_York:20220325T110000
DTEND;TZID=America/New_York:20220325T113000
DTSTAMP:20260424T171820
CREATED:20220303T210155Z
LAST-MODIFIED:20220822T135103Z
UID:69185-1648206000-1648207800@naturalsciences.org
SUMMARY:3D Movie: Incredible Predators
DESCRIPTION:Incredible Predators 3D\n“Incredible Predators” deconstructs the world of major predators as never before\, taking an intimate look at the remarkable strategies they use to succeed. Advanced filming techniques expose the planet’s top predators in extraordinary footage\, putting the audience right beside them as they hunt – on land\, under the sea or in the air. \nFar from a film about the kill\, instead the audience will be emotionally engaged with the key characters\, learning how these supreme species must be at the very peak of performance to have any chance of success. Their backstory will be a key part of the narrative; to understand a cheetah’s dilemma you must meet her hungry cubs. \nTop predators occupy an apex position within the habitats they dominate and\, alongside dramatic animal behavior\, “Incredible Predators” reveals the unique relationship between predators and prey as a fundamental building block of ecology. \nBUY TICKETS\nIncredible Predators 3D website
URL:https://naturalsciences.org/calendar/event/3d-movie-incredible-predators-5/2022-03-25/
LOCATION:Downtown Raleigh\, 11 West Jones Street\, Raleigh\, NC\, 27601\, United States
CATEGORIES:Adults,Children,Movies,Teens,WRAL 3D Theater
ORGANIZER;CN="Museum%20Box%20Office":MAILTO:museumboxoffice@naturalsciences.org
GEO:35.7822735;-78.6395502
X-APPLE-STRUCTURED-LOCATION;VALUE=URI;X-ADDRESS=Downtown Raleigh 11 West Jones Street Raleigh NC 27601 United States;X-APPLE-RADIUS=500;X-TITLE=11 West Jones Street:geo:-78.6395502,35.7822735
END:VEVENT
BEGIN:VEVENT
DTSTART;TZID=America/New_York:20220325T120000
DTEND;TZID=America/New_York:20220325T123000
DTSTAMP:20260424T171820
CREATED:20220303T214842Z
LAST-MODIFIED:20230406T153746Z
UID:69549-1648209600-1648211400@naturalsciences.org
SUMMARY:3D Movie: Dinosaurs of Antarctica
DESCRIPTION:Dinosaurs of Antarctica 3D\nFrom the Permian through the Jurassic\, journey to the south polar landscapes of Antarctica hundreds of millions of years ago. Roam the primitive forests and thick swamps with bizarre dinosaurs and colossal amphibians. Enter a surreal world of bug-eyed giants and egg-laying mammals — where survival means enduring the sunless\, six-month polar winter surrounded by meat-eaters with night vision. Join intrepid Antarctic scientists on a quest to understand the ice continent’s profound transformation — and to predict the future as humans drive dramatic change. Welcome to the lost prehistoric world of Gondwana. Welcome to Antarctica. \nBUY TICKETS\nDinosaurs of Antarctica 3D website\n\nDinosaurs of Antarctica Educator Guide: Grades K-1 (23MB PDF)\nDinosaurs of Antarctica Educator Guide: Grades 2-3 (15MB PDF)\nDinosaurs of Antarctica Educator Guide: Grades 4-5 (17MB PDF)\nDinosaurs of Antarctica Educator Guide: Grades 6-8 (18MB PDF)
URL:https://naturalsciences.org/calendar/event/3d-movie-dinosaurs-of-antarctica/2022-03-25/
LOCATION:Downtown Raleigh\, 11 West Jones Street\, Raleigh\, NC\, 27601\, United States
CATEGORIES:Adults,Children,Movies,Teens,WRAL 3D Theater
ORGANIZER;CN="Museum%20Box%20Office":MAILTO:museumboxoffice@naturalsciences.org
GEO:35.7822735;-78.6395502
X-APPLE-STRUCTURED-LOCATION;VALUE=URI;X-ADDRESS=Downtown Raleigh 11 West Jones Street Raleigh NC 27601 United States;X-APPLE-RADIUS=500;X-TITLE=11 West Jones Street:geo:-78.6395502,35.7822735
END:VEVENT
BEGIN:VEVENT
DTSTART;TZID=America/New_York:20220325T130000
DTEND;TZID=America/New_York:20220325T133000
DTSTAMP:20260424T171820
CREATED:20220303T212300Z
LAST-MODIFIED:20220822T135221Z
UID:69463-1648213200-1648215000@naturalsciences.org
SUMMARY:3D Movie: Volcanoes
DESCRIPTION:Volcanoes 3D\n“Volcanoes: The Fires of Creation” is a tale of science\, culture and thrilling adventure. Earth is a planet born of fire. For billions of years\, volcanoes have helped forge the world we know. From the continents to the air we breathe and even life itself\, all have been shaped by volcanic energy. These processes have created extraordinary ecosystems and wildlife habitats. With over 500 active volcanoes\, the Earth is bursting at the seams with these forces of mass construction. The story of volcanoes is the story of the planet’s creation and the story of us. \nWith intrepid explorer Carsten Peter\, dodge boulders at the edge of an active volcano in Indonesia\, descend to a lava lake in Vanuatu and visit incredible acid ponds\, geysers and mineral deposit fields in Ethiopia. Travel across the globe to see the archeological ghost town of Pompeii\, hydrothermal vents at the bottom of the ocean and witness the devastating effects of the 2018 Kilauea eruption in Hawaii. \nBUY TICKETS\nVolcanoes 3D website\nVolcanoes 3D Educator Guides
URL:https://naturalsciences.org/calendar/event/3d-movie-volcanoes-5/2022-03-25/
LOCATION:Downtown Raleigh\, 11 West Jones Street\, Raleigh\, NC\, 27601\, United States
CATEGORIES:Adults,Children,Movies,Teens,WRAL 3D Theater
ORGANIZER;CN="Museum%20Box%20Office":MAILTO:museumboxoffice@naturalsciences.org
GEO:35.7822735;-78.6395502
X-APPLE-STRUCTURED-LOCATION;VALUE=URI;X-ADDRESS=Downtown Raleigh 11 West Jones Street Raleigh NC 27601 United States;X-APPLE-RADIUS=500;X-TITLE=11 West Jones Street:geo:-78.6395502,35.7822735
END:VEVENT
BEGIN:VEVENT
DTSTART;TZID=America/New_York:20220325T140000
DTEND;TZID=America/New_York:20220325T143000
DTSTAMP:20260424T171820
CREATED:20220303T220841Z
LAST-MODIFIED:20230828T145638Z
UID:69745-1648216800-1648218600@naturalsciences.org
SUMMARY:3D Movie: Dinosaurs of Antarctica
DESCRIPTION:Dinosaurs of Antarctica 3D\nFrom the Permian through the Jurassic\, journey to the south polar landscapes of Antarctica hundreds of millions of years ago. Roam the primitive forests and thick swamps with bizarre dinosaurs and colossal amphibians. Enter a surreal world of bug-eyed giants and egg-laying mammals — where survival means enduring the sunless\, six-month polar winter surrounded by meat-eaters with night vision. Join intrepid Antarctic scientists on a quest to understand the ice continent’s profound transformation — and to predict the future as humans drive dramatic change. Welcome to the lost prehistoric world of Gondwana. Welcome to Antarctica. \nBUY TICKETS\nDinosaurs of Antarctica 3D website\n\nDinosaurs of Antarctica Educator Guide: Grades K-1 (23MB PDF)\nDinosaurs of Antarctica Educator Guide: Grades 2-3 (15MB PDF)\nDinosaurs of Antarctica Educator Guide: Grades 4-5 (17MB PDF)\nDinosaurs of Antarctica Educator Guide: Grades 6-8 (18MB PDF)
URL:https://naturalsciences.org/calendar/event/3d-movie-dinosaurs-of-antarctica-2/2022-03-25/
LOCATION:Downtown Raleigh\, 11 West Jones Street\, Raleigh\, NC\, 27601\, United States
CATEGORIES:Adults,Children,Movies,Teens,WRAL 3D Theater
ORGANIZER;CN="Museum%20Box%20Office":MAILTO:museumboxoffice@naturalsciences.org
GEO:35.7822735;-78.6395502
X-APPLE-STRUCTURED-LOCATION;VALUE=URI;X-ADDRESS=Downtown Raleigh 11 West Jones Street Raleigh NC 27601 United States;X-APPLE-RADIUS=500;X-TITLE=11 West Jones Street:geo:-78.6395502,35.7822735
END:VEVENT
BEGIN:VEVENT
DTSTART;TZID=America/New_York:20220325T160000
DTEND;TZID=America/New_York:20220325T163000
DTSTAMP:20260424T171820
CREATED:20220303T221623Z
LAST-MODIFIED:20230406T162813Z
UID:69780-1648224000-1648225800@naturalsciences.org
SUMMARY:3D Movie: Dinosaurs of Antarctica
DESCRIPTION:Dinosaurs of Antarctica 3D\nFrom the Permian through the Jurassic\, journey to the south polar landscapes of Antarctica hundreds of millions of years ago. Roam the primitive forests and thick swamps with bizarre dinosaurs and colossal amphibians. Enter a surreal world of bug-eyed giants and egg-laying mammals — where survival means enduring the sunless\, six-month polar winter surrounded by meat-eaters with night vision. Join intrepid Antarctic scientists on a quest to understand the ice continent’s profound transformation — and to predict the future as humans drive dramatic change. Welcome to the lost prehistoric world of Gondwana. Welcome to Antarctica. \nBUY TICKETS\nDinosaurs of Antarctica 3D website\n\nDinosaurs of Antarctica Educator Guide: Grades K-1 (23MB PDF)\nDinosaurs of Antarctica Educator Guide: Grades 2-3 (15MB PDF)\nDinosaurs of Antarctica Educator Guide: Grades 4-5 (17MB PDF)\nDinosaurs of Antarctica Educator Guide: Grades 6-8 (18MB PDF)
URL:https://naturalsciences.org/calendar/event/3d-movie-dinosaurs-of-antarctica-3/2022-03-25/
LOCATION:Downtown Raleigh\, 11 West Jones Street\, Raleigh\, NC\, 27601\, United States
CATEGORIES:Adults,Children,Movies,Teens,WRAL 3D Theater
ORGANIZER;CN="Museum%20Box%20Office":MAILTO:museumboxoffice@naturalsciences.org
GEO:35.7822735;-78.6395502
X-APPLE-STRUCTURED-LOCATION;VALUE=URI;X-ADDRESS=Downtown Raleigh 11 West Jones Street Raleigh NC 27601 United States;X-APPLE-RADIUS=500;X-TITLE=11 West Jones Street:geo:-78.6395502,35.7822735
END:VEVENT
BEGIN:VEVENT
DTSTART;TZID=America/New_York:20220325T160000
DTEND;TZID=America/New_York:20220325T170000
DTSTAMP:20260424T171820
CREATED:20220308T152110Z
LAST-MODIFIED:20220308T170114Z
UID:70079-1648224000-1648227600@naturalsciences.org
SUMMARY:Virtual: Axolotl Paint-Along
DESCRIPTION:Grab your paintbrushes and get ready to learn about the mysterious and unique amphibian known as the Axolotl. We will meet our model and then get busy creating our own Axolotl paintings! \nThis program is virtual and visitors may join via Zoom or YouTube. \nProgram is free but registration is required.  Register here.
URL:https://naturalsciences.org/calendar/event/virtual-axolotl-paint-along/
LOCATION:Virtual\, NC\, United States
CATEGORIES:All Ages,Children,Downtown Raleigh,General Events,Reptile and Amphibian Month,Virtual
ORGANIZER;CN="Kari%20Wouk":MAILTO:kari.wouk@naturalsciences.org
END:VEVENT
BEGIN:VEVENT
DTSTART;TZID=America/New_York:20220325T160000
DTEND;TZID=America/New_York:20220325T170000
DTSTAMP:20260424T171820
CREATED:20220309T210307Z
LAST-MODIFIED:20220310T003211Z
UID:70140-1648224000-1648227600@naturalsciences.org
SUMMARY:Flowers in Life and Paper (ecoEXPLORE)
DESCRIPTION:Flowers are an essential part in the life of most plants! Learn about why flowers are important and the parts that make up a flower. Then you’ll make your own flowers out of paper! \nThis program will require some basic crafting supplies such as paper\, glue\, and string/yarn. You’ll receive a materials list at least a week before the program.  This program requires pre-registration! Please register online here to get the Zoom link. \nThis program is geared toward children in grades K-8 and their families\, but all are welcome! You will learn about the ecoEXPLORE project during the program. \nNOTICE TO CHILDREN AND GUARDIANS \nIf you are under age 13 and you wish to participate in certain events or exhibits at\, conducted by\, or sponsored by the North Carolina Museum of Natural Sciences\, your parent or guardian must register you and provide their consent as well as your information. Please see our privacy policy at http://naturalsciences.org/about/privacy-information for additional information.
URL:https://naturalsciences.org/calendar/event/flowers-in-life-and-paper-ecoexplore/
LOCATION:Virtual\, NC\, United States
CATEGORIES:Children,Citizen Science,K-12 Students,Prairie Ridge
ORGANIZER;CN="Chris%20Goforth":MAILTO:chris.goforth@naturalsciences.org
END:VEVENT
END:VCALENDAR