BEGIN:VCALENDAR
VERSION:2.0
PRODID:-//Programs and Events Calendar - ECPv5.9.0//NONSGML v1.0//EN
CALSCALE:GREGORIAN
METHOD:PUBLISH
X-WR-CALNAME:Programs and Events Calendar
X-ORIGINAL-URL:https://naturalsciences.org/calendar
X-WR-CALDESC:Events for Programs and Events Calendar
BEGIN:VTIMEZONE
TZID:America/New_York
BEGIN:DAYLIGHT
TZOFFSETFROM:-0500
TZOFFSETTO:-0400
TZNAME:EDT
DTSTART:20250309T070000
END:DAYLIGHT
BEGIN:STANDARD
TZOFFSETFROM:-0400
TZOFFSETTO:-0500
TZNAME:EST
DTSTART:20251102T060000
END:STANDARD
END:VTIMEZONE
BEGIN:VEVENT
DTSTART;TZID=America/New_York:20251003T180000
DTEND;TZID=America/New_York:20251003T190000
DTSTAMP:20260421T221409
CREATED:20250915T185803Z
LAST-MODIFIED:20250915T211008Z
UID:114206-1759514400-1759518000@naturalsciences.org
SUMMARY:Teen Science Café: Paleontology with Dr. Jennifer Anné
DESCRIPTION:Dr. Jennifer Anné\, Assistant Manager of the SECU DinoLab\, joins us to talk about working in the lab that’s home to the Dueling Dinosaurs. Learn about imaging techniques and the various cutting-edge tools her team uses to study the 67-million-year-old fossil. \nHow does their research answer questions about the tyrannosaur and Triceratops that were found buried together? Come find out! \nTeen Science Café brings teens together\, in-person and virtually\, to explore science and technology. Each Teen Science Café features a presenter speaking on a topic in their field\, accompanied by an interactive activity\, Q&A session\, and group discussion. This free program is designed for participants ages 11-17. A YouTube livestream will also be available.
URL:https://naturalsciences.org/calendar/event/teen-science-cafes-paleontology-with-museum-dinolab-assistant-manager-jenn-anne/
LOCATION:Downtown Raleigh\, 11 West Jones Street\, Raleigh\, NC\, 27601\, United States
CATEGORIES:Daily Planet Cafe,Teen Science Cafes,Teens
ATTACH;FMTTYPE=image/jpeg:https://naturalsciences.org/calendar/wp-content/uploads/2025/09/NCStateMag.jpg
ORGANIZER;CN="Lynn%20Cross":MAILTO:lynn.cross@naturalsciences.org
GEO:35.7822735;-78.6395502
X-APPLE-STRUCTURED-LOCATION;VALUE=URI;X-ADDRESS=Downtown Raleigh 11 West Jones Street Raleigh NC 27601 United States;X-APPLE-RADIUS=500;X-TITLE=11 West Jones Street:geo:-78.6395502,35.7822735
END:VEVENT
END:VCALENDAR