BEGIN:VCALENDAR
VERSION:2.0
PRODID:-//Programs and Events Calendar - ECPv5.9.0//NONSGML v1.0//EN
CALSCALE:GREGORIAN
METHOD:PUBLISH
X-WR-CALNAME:Programs and Events Calendar
X-ORIGINAL-URL:https://naturalsciences.org/calendar
X-WR-CALDESC:Events for Programs and Events Calendar
BEGIN:VTIMEZONE
TZID:America/New_York
BEGIN:DAYLIGHT
TZOFFSETFROM:-0500
TZOFFSETTO:-0400
TZNAME:EDT
DTSTART:20260308T070000
END:DAYLIGHT
BEGIN:STANDARD
TZOFFSETFROM:-0400
TZOFFSETTO:-0500
TZNAME:EST
DTSTART:20261101T060000
END:STANDARD
END:VTIMEZONE
BEGIN:VEVENT
DTSTART;TZID=America/New_York:20260327T200000
DTEND;TZID=America/New_York:20260327T210000
DTSTAMP:20260421T162815
CREATED:20260228T212425Z
LAST-MODIFIED:20260228T212425Z
UID:119595-1774641600-1774645200@naturalsciences.org
SUMMARY:Sounds of Spring: Frog Calls
DESCRIPTION:Are you curious about the frogs that live around us? Want to learn about frog ecology\, and how to identify local frogs by sound? Join us in the evening for a casual walk down to the pond\, where we will listen for frogs\, practice our frog call identification\, and record observations to help researchers better understand frog populations and ecology in the Piedmont.\n\nThis program is free and open to everyone ages 8+\, but registration is required. We will meet by the kiosk before walking as a group across the prairie to the pond. Dress for the weather and bring water.\nRegister here
URL:https://naturalsciences.org/calendar/event/sounds-of-spring-frog-calls/
LOCATION:Prairie Ridge\, 1671 Gold Star Drive\, Raleigh\, NC\, 27607\, United States
CATEGORIES:Adults,Children,Citizen Science,K-12 Students,Outdoor Experiences,Teens
ORGANIZER;CN="Lucie%20Ciccone":MAILTO:lucie.ciccone@naturalsciences.org
GEO:35.812182885871;-78.713963528554
X-APPLE-STRUCTURED-LOCATION;VALUE=URI;X-ADDRESS=Prairie Ridge 1671 Gold Star Drive Raleigh NC 27607 United States;X-APPLE-RADIUS=500;X-TITLE=1671 Gold Star Drive:geo:-78.713963528554,35.812182885871
END:VEVENT
END:VCALENDAR