BEGIN:VCALENDAR
VERSION:2.0
PRODID:-//Programs and Events Calendar - ECPv5.9.0//NONSGML v1.0//EN
CALSCALE:GREGORIAN
METHOD:PUBLISH
X-WR-CALNAME:Programs and Events Calendar
X-ORIGINAL-URL:https://naturalsciences.org/calendar
X-WR-CALDESC:Events for Programs and Events Calendar
BEGIN:VTIMEZONE
TZID:America/New_York
BEGIN:DAYLIGHT
TZOFFSETFROM:-0500
TZOFFSETTO:-0400
TZNAME:EDT
DTSTART:20260308T070000
END:DAYLIGHT
BEGIN:STANDARD
TZOFFSETFROM:-0400
TZOFFSETTO:-0500
TZNAME:EST
DTSTART:20261101T060000
END:STANDARD
END:VTIMEZONE
BEGIN:VEVENT
DTSTART;TZID=America/New_York:20260423T150000
DTEND;TZID=America/New_York:20260423T153000
DTSTAMP:20260424T131103
CREATED:20260210T173838Z
LAST-MODIFIED:20260423T142042Z
UID:119217-1776956400-1776958200@naturalsciences.org
SUMMARY:Science TODAY
DESCRIPTION:“A Nine-Year Retrospective Study of Fish Neoplasms in the Museum’s Living Collection” with NCMNS Veterinary Sciences Interns \nGo inside the globe of the SECU Daily Planet Theater for live presentations and interactive shows led by scientists and educators. Meet researchers\, witness live demonstrations\, and engage in Q&A sessions with experts. With ever-changing topics and guests\, there’s always something new and exciting to learn.
URL:https://naturalsciences.org/calendar/event/science-today-april-2026-2026-04-03-2-2026-04-23/
LOCATION:Nature Research Center\, 121 West Jones Street\, Raleigh\, NC\, 27601\, United States
CATEGORIES:Adults,All Ages,Children,Daily Programs,Discussions,Lectures,Meet the Scientist,SECU Daily Planet Theater,Walk-up Programs
ORGANIZER;CN="Chris%20Smith":MAILTO:christopher.smith@naturalsciences.org
GEO:35.7822405;-78.6409677
X-APPLE-STRUCTURED-LOCATION;VALUE=URI;X-ADDRESS=Nature Research Center 121 West Jones Street Raleigh NC 27601 United States;X-APPLE-RADIUS=500;X-TITLE=121 West Jones Street:geo:-78.6409677,35.7822405
END:VEVENT
END:VCALENDAR