BEGIN:VCALENDAR
VERSION:2.0
PRODID:-//Programs and Events Calendar - ECPv5.9.0//NONSGML v1.0//EN
CALSCALE:GREGORIAN
METHOD:PUBLISH
X-WR-CALNAME:Programs and Events Calendar
X-ORIGINAL-URL:https://naturalsciences.org/calendar
X-WR-CALDESC:Events for Programs and Events Calendar
BEGIN:VTIMEZONE
TZID:America/New_York
BEGIN:DAYLIGHT
TZOFFSETFROM:-0500
TZOFFSETTO:-0400
TZNAME:EDT
DTSTART:20250309T070000
END:DAYLIGHT
BEGIN:STANDARD
TZOFFSETFROM:-0400
TZOFFSETTO:-0500
TZNAME:EST
DTSTART:20251102T060000
END:STANDARD
END:VTIMEZONE
BEGIN:VEVENT
DTSTART;TZID=America/New_York:20250122T103000
DTEND;TZID=America/New_York:20250122T113000
DTSTAMP:20260422T123653
CREATED:20241210T180701Z
LAST-MODIFIED:20250122T030204Z
UID:103267-1737541800-1737545400@naturalsciences.org
SUMMARY:CANCELLED: Science Detectives: Sink and Float!
DESCRIPTION:Science Detectives: Sink and Float! \nJoin us for classes designed especially for homeschool and track-out students. These 60-minute classes allow us to delve deeper into topics and incorporate additional learning experiences. \nWhy do some things float in water and some things sink? Let’s play and find out! Meet some animal friends who live in the water\, and do experiments to see what floats and what sinks.\n*This program will include experiments with water\, so parents may want to bring extra clothes in case of big spills. \nParticipants must be 5-7 years old for this program.  \nThis is a drop-off program\, but adults must stay in the Museum during the program time. \nREGISTER NOW!\nRegistration ends 48 hours prior to program start time. \nFor more information contact Missy Chernick.
URL:https://naturalsciences.org/calendar/event/science-detectives-sink-and-float/
LOCATION:Downtown Raleigh\, 11 West Jones Street\, Raleigh\, NC\, 27601\, United States
CATEGORIES:Children,Classes,Homeschool/Track-Out Classes,K-12 Students,Science Detectives
GEO:35.7822735;-78.6395502
X-APPLE-STRUCTURED-LOCATION;VALUE=URI;X-ADDRESS=Downtown Raleigh 11 West Jones Street Raleigh NC 27601 United States;X-APPLE-RADIUS=500;X-TITLE=11 West Jones Street:geo:-78.6395502,35.7822735
END:VEVENT
END:VCALENDAR