BEGIN:VCALENDAR
VERSION:2.0
PRODID:-//Programs and Events Calendar - ECPv5.9.0//NONSGML v1.0//EN
CALSCALE:GREGORIAN
METHOD:PUBLISH
X-WR-CALNAME:Programs and Events Calendar
X-ORIGINAL-URL:https://naturalsciences.org/calendar
X-WR-CALDESC:Events for Programs and Events Calendar
BEGIN:VTIMEZONE
TZID:America/New_York
BEGIN:DAYLIGHT
TZOFFSETFROM:-0500
TZOFFSETTO:-0400
TZNAME:EDT
DTSTART:20220313T070000
END:DAYLIGHT
BEGIN:STANDARD
TZOFFSETFROM:-0400
TZOFFSETTO:-0500
TZNAME:EST
DTSTART:20221106T060000
END:STANDARD
END:VTIMEZONE
BEGIN:VEVENT
DTSTART;TZID=America/New_York:20221019T104500
DTEND;TZID=America/New_York:20221019T114500
DTSTAMP:20260424T055842
CREATED:20220830T170730Z
LAST-MODIFIED:20220901T160350Z
UID:77381-1666176300-1666179900@naturalsciences.org
SUMMARY:Science Detectives: Legends of the Briny Deep
DESCRIPTION:Join us for classes designed especially for homeschool and track-out students. These 60-minute classes allow us to delve deeper into topics and incorporate additional learning experiences. \nAhoy Mateys! Join the Crew of the Flying Dutchman and discover the science behind the legends of the briny deep. Uncover the terrifying kraken and face off against a shark with the face of a goblin. Chase down the great white whale and escape the clutches of the fearsome sea serpent. Using hands-on activities\, specimens and our own pirate daring\, we’ll reveal the real-life animals that inspired the myths of Davy Jones’ Locker. \nParticipants must be 5-7 years old for this program. \nREGISTER NOW!\nRegistration ends 48 hours prior to program start time. \nFor more information contact Missy Chernick.
URL:https://naturalsciences.org/calendar/event/science-detectives-legends-of-the-briny-deep/
LOCATION:Nature Exploration Center\, 11 West Jones Street\, Raleigh\, NC\, 27601\, United States
CATEGORIES:Children,Classes,Homeschool/Track-Out Classes,K-12 Students,Science Detectives
GEO:35.7822735;-78.6395502
X-APPLE-STRUCTURED-LOCATION;VALUE=URI;X-ADDRESS=Nature Exploration Center 11 West Jones Street Raleigh NC 27601 United States;X-APPLE-RADIUS=500;X-TITLE=11 West Jones Street:geo:-78.6395502,35.7822735
END:VEVENT
END:VCALENDAR