BEGIN:VCALENDAR
VERSION:2.0
PRODID:-//Programs and Events Calendar - ECPv5.9.0//NONSGML v1.0//EN
CALSCALE:GREGORIAN
METHOD:PUBLISH
X-WR-CALNAME:Programs and Events Calendar
X-ORIGINAL-URL:https://naturalsciences.org/calendar
X-WR-CALDESC:Events for Programs and Events Calendar
BEGIN:VTIMEZONE
TZID:America/New_York
BEGIN:DAYLIGHT
TZOFFSETFROM:-0500
TZOFFSETTO:-0400
TZNAME:EDT
DTSTART:20240310T070000
END:DAYLIGHT
BEGIN:STANDARD
TZOFFSETFROM:-0400
TZOFFSETTO:-0500
TZNAME:EST
DTSTART:20241103T060000
END:STANDARD
END:VTIMEZONE
BEGIN:VEVENT
DTSTART;TZID=America/New_York:20241016T104500
DTEND;TZID=America/New_York:20241016T114500
DTSTAMP:20260422T163600
CREATED:20240904T185613Z
LAST-MODIFIED:20240904T185613Z
UID:102374-1729075500-1729079100@naturalsciences.org
SUMMARY:Science Detectives: Green Plants
DESCRIPTION:Join us for classes designed especially for homeschool and track-out students. These 60-minute classes allow us to delve deeper into topics and incorporate additional learning experiences. \nWhy so green? Examine the lives of plants through hands-on activities and role-playing. Students will observe plants structures and learn how different plants survive in a variety of habitats. \nParticipants must be 8-10 years old for this program. \nREGISTER NOW!\nRegistration ends 48 hours prior to program start time. \nFor more information contact Missy Chernick.
URL:https://naturalsciences.org/calendar/event/science-detectives-green-plants/
LOCATION:Downtown Raleigh\, 11 West Jones Street\, Raleigh\, NC\, 27601\, United States
CATEGORIES:Children,Classes,Homeschool/Track-Out Classes,K-12 Students,Science Detectives
GEO:35.7822735;-78.6395502
X-APPLE-STRUCTURED-LOCATION;VALUE=URI;X-ADDRESS=Downtown Raleigh 11 West Jones Street Raleigh NC 27601 United States;X-APPLE-RADIUS=500;X-TITLE=11 West Jones Street:geo:-78.6395502,35.7822735
END:VEVENT
END:VCALENDAR