BEGIN:VCALENDAR
VERSION:2.0
PRODID:-//Programs and Events Calendar - ECPv5.9.0//NONSGML v1.0//EN
CALSCALE:GREGORIAN
METHOD:PUBLISH
X-WR-CALNAME:Programs and Events Calendar
X-ORIGINAL-URL:https://naturalsciences.org/calendar
X-WR-CALDESC:Events for Programs and Events Calendar
BEGIN:VTIMEZONE
TZID:America/New_York
BEGIN:DAYLIGHT
TZOFFSETFROM:-0500
TZOFFSETTO:-0400
TZNAME:EDT
DTSTART:20240310T070000
END:DAYLIGHT
BEGIN:STANDARD
TZOFFSETFROM:-0400
TZOFFSETTO:-0500
TZNAME:EST
DTSTART:20241103T060000
END:STANDARD
END:VTIMEZONE
BEGIN:VEVENT
DTSTART;TZID=America/New_York:20241120T101500
DTEND;TZID=America/New_York:20241120T114500
DTSTAMP:20260422T151756
CREATED:20241010T190651Z
LAST-MODIFIED:20241010T194351Z
UID:103038-1732097700-1732103100@naturalsciences.org
SUMMARY:Science Detectives: Computer Programming for Beginners
DESCRIPTION:Join us for classes designed especially for homeschool and track-out students. These classes allow us to delve deeper into topics and incorporate additional learning experiences. \nFrom scientists to game developers\, computer code is used in nearly every profession. Demystify the world of computer programing by starting at the beginning! Designed to introduce basic coding skills through fun game-like lessons\, this class is for those interested in learning valuable skills that are highly sought after. \nParticipants must be 11 years of age or older for this program. \nREGISTER NOW!\nRegistration ends 48 hours prior to program start time. \nFor more information contact Missy Chernick.
URL:https://naturalsciences.org/calendar/event/science-detectives-computer-programming-for-beginners/
LOCATION:Nature Research Center\, 121 West Jones Street\, Raleigh\, NC\, 27601\, United States
CATEGORIES:Children,Classes,Homeschool/Track-Out Classes,K-12 Students,Science Detectives,Teens
GEO:35.7822405;-78.6409677
X-APPLE-STRUCTURED-LOCATION;VALUE=URI;X-ADDRESS=Nature Research Center 121 West Jones Street Raleigh NC 27601 United States;X-APPLE-RADIUS=500;X-TITLE=121 West Jones Street:geo:-78.6409677,35.7822405
END:VEVENT
END:VCALENDAR