BEGIN:VCALENDAR
VERSION:2.0
PRODID:-//Programs and Events Calendar - ECPv5.9.0//NONSGML v1.0//EN
CALSCALE:GREGORIAN
METHOD:PUBLISH
X-WR-CALNAME:Programs and Events Calendar
X-ORIGINAL-URL:https://naturalsciences.org/calendar
X-WR-CALDESC:Events for Programs and Events Calendar
BEGIN:VTIMEZONE
TZID:America/New_York
BEGIN:DAYLIGHT
TZOFFSETFROM:-0500
TZOFFSETTO:-0400
TZNAME:EDT
DTSTART:20250309T070000
END:DAYLIGHT
BEGIN:STANDARD
TZOFFSETFROM:-0400
TZOFFSETTO:-0500
TZNAME:EST
DTSTART:20251102T060000
END:STANDARD
END:VTIMEZONE
BEGIN:VEVENT
DTSTART;TZID=America/New_York:20251015T103000
DTEND;TZID=America/New_York:20251015T113000
DTSTAMP:20260421T215212
CREATED:20250819T164533Z
LAST-MODIFIED:20250819T164533Z
UID:112242-1760524200-1760527800@naturalsciences.org
SUMMARY:Science Detectives: Backyard Birds
DESCRIPTION:Join us for classes designed especially for homeschool and track-out students. These 60-minute classes allow us to delve deeper into topics and incorporate additional learning experiences. \nYou’ve probably heard of a chickadee and a titmouse\, but how about a sapsucker or a waxwing? From the birds we see at our birdfeeders to those that are a little harder to get a glimpse of\, we’ll take a closer look at some feathered friends you may already know as well as a few you may not. What kind of adaptations do they have for surviving? How can you help them be more successful in your own back yard? \nParticipants must be 8-10 years old for this program. This is a drop-off program\, but adults must stay in the Museum during the program time. \nREGISTER NOW!\nRegistration ends 48 hours prior to program start time. \nFor more information contact Missy Chernick.
URL:https://naturalsciences.org/calendar/event/science-detectives-backyard-birds-2/
LOCATION:Downtown Raleigh\, 11 West Jones Street\, Raleigh\, NC\, 27601\, United States
CATEGORIES:Children,Classes,Homeschool/Track-Out Classes,K-12 Students,Science Detectives
GEO:35.7822735;-78.6395502
X-APPLE-STRUCTURED-LOCATION;VALUE=URI;X-ADDRESS=Downtown Raleigh 11 West Jones Street Raleigh NC 27601 United States;X-APPLE-RADIUS=500;X-TITLE=11 West Jones Street:geo:-78.6395502,35.7822735
END:VEVENT
END:VCALENDAR