BEGIN:VCALENDAR
VERSION:2.0
PRODID:-//Programs and Events Calendar - ECPv5.9.0//NONSGML v1.0//EN
CALSCALE:GREGORIAN
METHOD:PUBLISH
X-WR-CALNAME:Programs and Events Calendar
X-ORIGINAL-URL:https://naturalsciences.org/calendar
X-WR-CALDESC:Events for Programs and Events Calendar
BEGIN:VTIMEZONE
TZID:America/New_York
BEGIN:DAYLIGHT
TZOFFSETFROM:-0500
TZOFFSETTO:-0400
TZNAME:EDT
DTSTART:20250309T070000
END:DAYLIGHT
BEGIN:STANDARD
TZOFFSETFROM:-0400
TZOFFSETTO:-0500
TZNAME:EST
DTSTART:20251102T060000
END:STANDARD
END:VTIMEZONE
BEGIN:VEVENT
DTSTART;TZID=America/New_York:20250816T103000
DTEND;TZID=America/New_York:20250816T123000
DTSTAMP:20260422T012421
CREATED:20250609T172341Z
LAST-MODIFIED:20250709T180700Z
UID:111764-1755340200-1755347400@naturalsciences.org
SUMMARY:Mud Day Fun (Whiteville)
DESCRIPTION:Come to the Museum on Saturday\, August 16 for a special mud and water play day. Cool down during this extended PlaySpace Pop-Up and learn about creatures that love mud and even use it to build homes! \nNature PlaySpace Pop-Ups are free\, outdoor events guided by Museum staff in our fenced\, natural play area just outside the Museum. This program connects children to nature through nature crafting\, skill-building\, and play. Everyone is welcome at the Nature PlaySpace\, but Pop-Ups are designed especially for kids ages 4-8. Please dress for exploration! In the event of light rain or cold\, the Pop-Ups will still take place. In more adverse conditions\, please call the museum to inquire about the program’s status. Registration not required. \nFor more information\, contact Chelsea Flowers at chelsea.flowers@naturalsciences.org. \nWe ask that you notify the NCMNS-Whiteville staff ahead of time if you plan to bring groups of 10 or more to visit the Nature PlaySpace or other parts of the museum. Contact us at whiteville@naturalsciences.org or 910.788.5100 for more information or to notify us of your visit.
URL:https://naturalsciences.org/calendar/event/nature-playspace-pop-up-whiteville-2025-08-16/
LOCATION:Whiteville\, 415 South Madison Street\, Whiteville\, NC\, 28472\, United States
CATEGORIES:Children,General Events
GEO:34.3258479;-78.7027078
X-APPLE-STRUCTURED-LOCATION;VALUE=URI;X-ADDRESS=Whiteville 415 South Madison Street Whiteville NC 28472 United States;X-APPLE-RADIUS=500;X-TITLE=415 South Madison Street:geo:-78.7027078,34.3258479
END:VEVENT
END:VCALENDAR