BEGIN:VCALENDAR
VERSION:2.0
PRODID:-//Programs and Events Calendar - ECPv5.9.0//NONSGML v1.0//EN
CALSCALE:GREGORIAN
METHOD:PUBLISH
X-WR-CALNAME:Programs and Events Calendar
X-ORIGINAL-URL:https://naturalsciences.org/calendar
X-WR-CALDESC:Events for Programs and Events Calendar
BEGIN:VTIMEZONE
TZID:America/New_York
BEGIN:DAYLIGHT
TZOFFSETFROM:-0500
TZOFFSETTO:-0400
TZNAME:EDT
DTSTART:20240310T070000
END:DAYLIGHT
BEGIN:STANDARD
TZOFFSETFROM:-0400
TZOFFSETTO:-0500
TZNAME:EST
DTSTART:20241103T060000
END:STANDARD
END:VTIMEZONE
BEGIN:VEVENT
DTSTART;TZID=America/New_York:20241005T100000
DTEND;TZID=America/New_York:20241005T110000
DTSTAMP:20260419T135618
CREATED:20240907T165922Z
LAST-MODIFIED:20240909T163237Z
UID:102719-1728122400-1728126000@naturalsciences.org
SUMMARY:Nature Photography with Your Phone
DESCRIPTION:The best camera is the one you have with you! Learn how to use your cell phone to take nature photos and get practice by joining the Prairie Ridge Fall BioBlitz in this hands-on program. \nThis in-person program is for adults and requires pre-registration! \nRegister here\nBring your phone and be ready to look for wildlife. Wear closed-toed shoes and bring a water bottle. A hat and sunscreen are recommended!
URL:https://naturalsciences.org/calendar/event/nature-photography-with-your-phone/
LOCATION:Prairie Ridge\, 1671 Gold Star Drive\, Raleigh\, NC\, 27607\, United States
CATEGORIES:Adults,Citizen Science,Educators,Outdoor Experiences
ORGANIZER;CN="Chris%20Goforth":MAILTO:chris.goforth@naturalsciences.org
GEO:35.812182885871;-78.713963528554
X-APPLE-STRUCTURED-LOCATION;VALUE=URI;X-ADDRESS=Prairie Ridge 1671 Gold Star Drive Raleigh NC 27607 United States;X-APPLE-RADIUS=500;X-TITLE=1671 Gold Star Drive:geo:-78.713963528554,35.812182885871
END:VEVENT
END:VCALENDAR