BEGIN:VCALENDAR
VERSION:2.0
PRODID:-//Programs and Events Calendar - ECPv5.9.0//NONSGML v1.0//EN
CALSCALE:GREGORIAN
METHOD:PUBLISH
X-WR-CALNAME:Programs and Events Calendar
X-ORIGINAL-URL:https://naturalsciences.org/calendar
X-WR-CALDESC:Events for Programs and Events Calendar
BEGIN:VTIMEZONE
TZID:America/New_York
BEGIN:DAYLIGHT
TZOFFSETFROM:-0500
TZOFFSETTO:-0400
TZNAME:EDT
DTSTART:20220313T070000
END:DAYLIGHT
BEGIN:STANDARD
TZOFFSETFROM:-0400
TZOFFSETTO:-0500
TZNAME:EST
DTSTART:20221106T060000
END:STANDARD
END:VTIMEZONE
BEGIN:VEVENT
DTSTART;TZID=America/New_York:20221008T200000
DTEND;TZID=America/New_York:20221008T220000
DTSTAMP:20260420T012210
CREATED:20220920T192743Z
LAST-MODIFIED:20220920T192743Z
UID:77923-1665259200-1665266400@naturalsciences.org
SUMMARY:Moth-ing for the BioBlitz!
DESCRIPTION:Join us in our final BioBlitz endeavor of the week as we set up blacklights to see what moths and other insects are out and about at night. Bring a flashlight\, a camera (if you have one)\, and your moth and insect questions. \nThis is a drop-in program\, so you are welcome to arrive at any point during the stated times. Please come dressed for the weather and bring a flashlight as you will be making a short walk between the classroom and the parking lot that is unlighted. All ages are welcome to this program\, but it is best suited to ages 8 and up. All children under 16 must be accompanied by an adult. Downloading the iNaturalist app ahead of time will be helpful in preparing to document the critters you find!
URL:https://naturalsciences.org/calendar/event/moth-ing-for-the-bioblitz/
LOCATION:Prairie Ridge\, 1671 Gold Star Drive\, Raleigh\, NC\, 27607\, United States
CATEGORIES:Adults,All Ages,Children,Citizen Science,General Events,K-12 Students,Teens
ORGANIZER;CN="Chris%20Goforth":MAILTO:chris.goforth@naturalsciences.org
GEO:35.812182885871;-78.713963528554
X-APPLE-STRUCTURED-LOCATION;VALUE=URI;X-ADDRESS=Prairie Ridge 1671 Gold Star Drive Raleigh NC 27607 United States;X-APPLE-RADIUS=500;X-TITLE=1671 Gold Star Drive:geo:-78.713963528554,35.812182885871
END:VEVENT
END:VCALENDAR