BEGIN:VCALENDAR
VERSION:2.0
PRODID:-//Programs and Events Calendar - ECPv5.9.0//NONSGML v1.0//EN
CALSCALE:GREGORIAN
METHOD:PUBLISH
X-WR-CALNAME:Programs and Events Calendar
X-ORIGINAL-URL:https://naturalsciences.org/calendar
X-WR-CALDESC:Events for Programs and Events Calendar
BEGIN:VTIMEZONE
TZID:America/New_York
BEGIN:DAYLIGHT
TZOFFSETFROM:-0500
TZOFFSETTO:-0400
TZNAME:EDT
DTSTART:20210314T070000
END:DAYLIGHT
BEGIN:STANDARD
TZOFFSETFROM:-0400
TZOFFSETTO:-0500
TZNAME:EST
DTSTART:20211107T060000
END:STANDARD
END:VTIMEZONE
BEGIN:VEVENT
DTSTART;TZID=America/New_York:20211015T180000
DTEND;TZID=America/New_York:20211015T200000
DTSTAMP:20260421T175258
CREATED:20210831T152957Z
LAST-MODIFIED:20210903T132345Z
UID:63954-1634320800-1634328000@naturalsciences.org
SUMMARY:Member Preview: Exquisite Creatures
DESCRIPTION:Exquisite Creatures is a dialogue with art\, nature and science. Using organisms and elements as his medium\, artist Christopher Marley explores our need to connect with the natural world on a personal level\, inspiring biophilia – a love of life. Immerse yourself in a world where order\, diversity\, symmetry and balance come to life in vibrant\, awe-inspiring displays. \nAt this member-exclusive preview\, enjoy a sneak peek of the special exhibition and an opportunity to meet Christopher Marley to learn more about his preservation techniques and creative inspiration. Exhibition on public display October 16\, 2021 – March 20\, 2022. \nCurrent membership and preregistration required. Recommended for ages 11+\, but all ages welcome. Not a member yet? Join today! \nREGISTER NOW
URL:https://naturalsciences.org/calendar/event/member-preview/
LOCATION:Downtown Raleigh\, 11 West Jones Street\, Raleigh\, NC\, 27601\, United States
CATEGORIES:Adults,Member Exclusive,Teens
ORGANIZER;CN="Susan%20Rigby":MAILTO:susan.rigby@naturalsciences.org
GEO:35.7822735;-78.6395502
X-APPLE-STRUCTURED-LOCATION;VALUE=URI;X-ADDRESS=Downtown Raleigh 11 West Jones Street Raleigh NC 27601 United States;X-APPLE-RADIUS=500;X-TITLE=11 West Jones Street:geo:-78.6395502,35.7822735
END:VEVENT
END:VCALENDAR