BEGIN:VCALENDAR
VERSION:2.0
PRODID:-//Programs and Events Calendar - ECPv5.9.0//NONSGML v1.0//EN
CALSCALE:GREGORIAN
METHOD:PUBLISH
X-WR-CALNAME:Programs and Events Calendar
X-ORIGINAL-URL:https://naturalsciences.org/calendar
X-WR-CALDESC:Events for Programs and Events Calendar
BEGIN:VTIMEZONE
TZID:America/New_York
BEGIN:DAYLIGHT
TZOFFSETFROM:-0500
TZOFFSETTO:-0400
TZNAME:EDT
DTSTART:20220313T070000
END:DAYLIGHT
BEGIN:STANDARD
TZOFFSETFROM:-0400
TZOFFSETTO:-0500
TZNAME:EST
DTSTART:20221106T060000
END:STANDARD
END:VTIMEZONE
BEGIN:VEVENT
DTSTART;TZID=America/New_York:20220625T173000
DTEND;TZID=America/New_York:20220625T200000
DTSTAMP:20260421T080227
CREATED:20220503T211651Z
LAST-MODIFIED:20220622T163824Z
UID:70722-1656178200-1656187200@naturalsciences.org
SUMMARY:Member Night
DESCRIPTION:You’re invited to the Museum for an open-house style Member Night! This is your opportunity to learn about the amazing work and scientific research that happens at the Museum every day. Explore the Nature Exploration Center\, meet our staff and learn about the amazing work you support by being a member. Plus\, visit our newest special exhibition\, “Life Before Dinosaurs: The Permian Monsters.” \nActivities to enjoy this night include: \n\nVisiting the Living Conservatory.\nWatching a snake feeding at 6:00pm and 7:00pm.\nTaking a behind-the-scenes tour of the Salt Marsh at 5:45pm\, 6:05pm\, 6:25pm\, 6:45pm\, 7:05pm\, or 7:25pm (limit 5 people per tour).\nVisiting the Discovery Room.\nEnjoying a Live Science Show in the Windows on the World at 6:00pm\, 6:30pm\, 7:00pm\, and 7:30pm.\nJoining us at 7:00pm in the WRAL Theater for a livestream from a dinosaur dig at Crystal Geyser Quarry\, Utah.\n\nMembers will meet staff working in areas all over the Museum! Talk with our education staff and meet people you don’t often find on the Museum floor. Come learn about our work in areas such as: \n\nCitizen Science\nMammalogy\nPaleontology\nGeology\nIchthyology (fishes)\nGenomics\nMalacology (mollusks) and more!\n\nMembers will have an exclusive first look at the extended cut of Dinosaurs of Antarctica 3D at 6pm. Please note this experience is limited due to the capacity of the theater. \nFREE and exclusively for NCMNS members! \nCurrent membership and registration required.  All ages welcome. Not a member yet? Join today! \nRegister Now
URL:https://naturalsciences.org/calendar/event/member-night/
LOCATION:Downtown Raleigh\, 11 West Jones Street\, Raleigh\, NC\, 27601\, United States
CATEGORIES:Adults,All Ages,Children,Member Exclusive,Teens
ORGANIZER;CN="Katie%20Cupp":MAILTO:Katie.Cupp@naturalsciences.org
GEO:35.7822735;-78.6395502
X-APPLE-STRUCTURED-LOCATION;VALUE=URI;X-ADDRESS=Downtown Raleigh 11 West Jones Street Raleigh NC 27601 United States;X-APPLE-RADIUS=500;X-TITLE=11 West Jones Street:geo:-78.6395502,35.7822735
END:VEVENT
END:VCALENDAR