BEGIN:VCALENDAR
VERSION:2.0
PRODID:-//Programs and Events Calendar - ECPv5.9.0//NONSGML v1.0//EN
CALSCALE:GREGORIAN
METHOD:PUBLISH
X-WR-CALNAME:Programs and Events Calendar
X-ORIGINAL-URL:https://naturalsciences.org/calendar
X-WR-CALDESC:Events for Programs and Events Calendar
BEGIN:VTIMEZONE
TZID:America/New_York
BEGIN:DAYLIGHT
TZOFFSETFROM:-0500
TZOFFSETTO:-0400
TZNAME:EDT
DTSTART:20230312T070000
END:DAYLIGHT
BEGIN:STANDARD
TZOFFSETFROM:-0400
TZOFFSETTO:-0500
TZNAME:EST
DTSTART:20231105T060000
END:STANDARD
END:VTIMEZONE
BEGIN:VEVENT
DTSTART;TZID=America/New_York:20231213T120000
DTEND;TZID=America/New_York:20231213T130000
DTSTAMP:20260420T040634
CREATED:20231130T174321Z
LAST-MODIFIED:20231130T174321Z
UID:90565-1702468800-1702472400@naturalsciences.org
SUMMARY:Lunchtime Discovery: Visiting a Piece of Home
DESCRIPTION:Why It is Important to Go to the Moon and How It Can Tell Us About Earth’s Early History\nDr. Amy Fagan\, Associate Professor\, Western Carolina University\, Geosciences and Natural Resources Department \nBillions of years ago\, a Mars-sized object impacted a young Earth\, sending material out into cold space\, which eventually coalesced into a familiar body in our night sky: the Moon. Join Dr. Fagan to hear about what we have learned about the Moon from robotic and human missions\, satellites and rock samples. But there is still more to discover\, which is why NASA and other space agencies have their sights set on returning to the lunar surface to answer some of the Moon’s mysteries; learn more about Earth’s early evolution and asteroid bombardment history; and prepare us to continue to explore other areas of the Solar System. \nJoin us on YouTube!\n\nLive Virtual Presentation hosted by NC Museum of Natural Sciences’ Coordinator of Current Science Programs Chris Smith and the NC Department of Environmental Quality Office of Environmental Education and Public Affairs staff. \nYou can post questions in the YouTube chat or tweet questions to #LunchTimeDiscovery and mention @NorthCarolinaEE. \nBrought to you by the NC DEQ Office of Environmental Education and Public Affairs and the NC Museum of Natural Sciences.
URL:https://naturalsciences.org/calendar/event/lunchtime-discovery-visiting-a-piece-of-home/
LOCATION:Virtual\, NC\, United States
CATEGORIES:Adults,Discussions,Downtown Raleigh,Lectures,Lunchtime Discovery,Teens,Virtual
ORGANIZER;CN="Chris%20Smith":MAILTO:christopher.smith@naturalsciences.org
END:VEVENT
END:VCALENDAR