BEGIN:VCALENDAR
VERSION:2.0
PRODID:-//Programs and Events Calendar - ECPv5.9.0//NONSGML v1.0//EN
CALSCALE:GREGORIAN
METHOD:PUBLISH
X-WR-CALNAME:Programs and Events Calendar
X-ORIGINAL-URL:https://naturalsciences.org/calendar
X-WR-CALDESC:Events for Programs and Events Calendar
BEGIN:VTIMEZONE
TZID:America/New_York
BEGIN:DAYLIGHT
TZOFFSETFROM:-0500
TZOFFSETTO:-0400
TZNAME:EDT
DTSTART:20240310T070000
END:DAYLIGHT
BEGIN:STANDARD
TZOFFSETFROM:-0400
TZOFFSETTO:-0500
TZNAME:EST
DTSTART:20241103T060000
END:STANDARD
END:VTIMEZONE
BEGIN:VEVENT
DTSTART;TZID=America/New_York:20241016T120000
DTEND;TZID=America/New_York:20241016T130000
DTSTAMP:20260419T122432
CREATED:20240926T145138Z
LAST-MODIFIED:20241011T174327Z
UID:102913-1729080000-1729083600@naturalsciences.org
SUMMARY:Lunchtime Discovery: Roaming the Wilds: Exploring NC Mammals Shore to Summit
DESCRIPTION:Dr. Aimee Rockhill\, Program Director and Associate Professor\, Natural Resource Conservation and Management\, Western Carolina University \n\nMammals\, those charismatic warm and fuzzies that roam our planet\, play a crucial role in both conservation and management efforts. Herbivores help shape plant communities through browsing and grazing\, and carnivores maintain ecological balance by maintaining prey populations. Likewise\, most mammals aid in forest regeneration by facilitating seed dispersal\, aerating our soils\, and returning nutrients to the landscape. North Carolina is home to an estimated 126 mammal species; 79 of which roam the terrestrial landscape. In this presentation. Dr. Rockhill will delve into her research journey that spans the state from the coast to the mountains and will share the basics of how her team surveys and monitors mammals. Learn about the avenues for your involvement in supporting the dedicated mammalogists across the state to enhance our understanding and fortify conservation efforts aimed at safeguarding these remarkable species.\nJoin us in the SECU Daily Planet Theater or watch the livestream on YouTube!\n\nLive Virtual Presentation hosted by NC Museum of Natural Sciences’ SECU Daily Planet Curator Chris Smith and the NC Department of Environmental Quality Office of Environmental Education and Public Affairs staff. \nYou can post questions in the YouTube chat or tweet questions to #LunchTimeDiscovery and mention @NorthCarolinaEE. \nBrought to you by the NC DEQ Office of Environmental Education and Public Affairs and the NC Museum of Natural Sciences.
URL:https://naturalsciences.org/calendar/event/lunchtime-discovery-roaming-the-wilds/
LOCATION:Virtual\, NC\, United States
CATEGORIES:Adults,Discussions,Downtown Raleigh,Lectures,Lunchtime Discovery,Teens,Virtual
ORGANIZER;CN="Chris%20Smith":MAILTO:christopher.smith@naturalsciences.org
END:VEVENT
END:VCALENDAR