BEGIN:VCALENDAR
VERSION:2.0
PRODID:-//Programs and Events Calendar - ECPv5.9.0//NONSGML v1.0//EN
CALSCALE:GREGORIAN
METHOD:PUBLISH
X-WR-CALNAME:Programs and Events Calendar
X-ORIGINAL-URL:https://naturalsciences.org/calendar
X-WR-CALDESC:Events for Programs and Events Calendar
BEGIN:VTIMEZONE
TZID:America/New_York
BEGIN:DAYLIGHT
TZOFFSETFROM:-0500
TZOFFSETTO:-0400
TZNAME:EDT
DTSTART:20240310T070000
END:DAYLIGHT
BEGIN:STANDARD
TZOFFSETFROM:-0400
TZOFFSETTO:-0500
TZNAME:EST
DTSTART:20241103T060000
END:STANDARD
END:VTIMEZONE
BEGIN:VEVENT
DTSTART;TZID=America/New_York:20240612T070000
DTEND;TZID=America/New_York:20240612T150000
DTSTAMP:20260419T200441
CREATED:20240502T160851Z
LAST-MODIFIED:20240607T161904Z
UID:96312-1718175600-1718204400@naturalsciences.org
SUMMARY:Lifelong Hike: Picture Creek
DESCRIPTION:We will hike through the world’s largest population of the federally endangered smooth coneflower in peak bloom during this visit to the Picture Creek nature preserve. This power-line corridor through a unique diabase geologic area gives us a good sense of what the Piedmont prairies were like in earlier times. You will see wildflowers here that you don’t see in most areas of the Piedmont. \nPlease note: You will be required to enter the following information for each registrant before you can complete your registration: emergency contact\, physician contact and health information (allergies\, conditions\, medications relevant to this field experience). Take a moment to gather this information before beginning your registration. \nREGISTER FOR THIS TRIP\nIf the trip is full\, please email Missy Chernick to be added to the waitlist. \nRegistration deadline: Monday\, June 10 at 7:00am \nFor additional information about this trip and other Lifelong Hikes & Adventures\, contact Jerry Reynolds at 919.707.9884.
URL:https://naturalsciences.org/calendar/event/lifelong-hike-picture-creek-2/
LOCATION:In the Field
CATEGORIES:Adults,Lifelong Learners,Outdoor Experiences,Trips
ORGANIZER;CN="Jerry%20Reynolds":MAILTO:jerry.reynolds@naturalsciences.org
END:VEVENT
END:VCALENDAR