BEGIN:VCALENDAR
VERSION:2.0
PRODID:-//Programs and Events Calendar - ECPv5.9.0//NONSGML v1.0//EN
CALSCALE:GREGORIAN
METHOD:PUBLISH
X-WR-CALNAME:Programs and Events Calendar
X-ORIGINAL-URL:https://naturalsciences.org/calendar
X-WR-CALDESC:Events for Programs and Events Calendar
BEGIN:VTIMEZONE
TZID:America/New_York
BEGIN:DAYLIGHT
TZOFFSETFROM:-0500
TZOFFSETTO:-0400
TZNAME:EDT
DTSTART:20250309T070000
END:DAYLIGHT
BEGIN:STANDARD
TZOFFSETFROM:-0400
TZOFFSETTO:-0500
TZNAME:EST
DTSTART:20251102T060000
END:STANDARD
END:VTIMEZONE
BEGIN:VEVENT
DTSTART;TZID=America/New_York:20251010T100000
DTEND;TZID=America/New_York:20251010T113000
DTSTAMP:20260421T222616
CREATED:20250916T171852Z
LAST-MODIFIED:20251008T123715Z
UID:114231-1760090400-1760095800@naturalsciences.org
SUMMARY:Let's Explore Birds!
DESCRIPTION:Note: this program was originally scheduled for Wednesday\, October 8 and was then rescheduled for Friday\, October 10.  \nIn the fall\, some birds are gearing up for migration – and this makes it a great time to spot them on their big journeys! Join us as we look for and learn about the many birds that call North Carolina home. Designed for early childhood audiences (ages 7 and under)\, this program will provide interactive observations and engagement as we learn about the birds found at Prairie Ridge\, and in your own neighborhood! \nThis is a free\, drop-in program beginning at 10:00am at the picnic tables right outside of the Nature PlaySpace. Be sure to wear appropriate clothes for the weather and bring a water bottle. Trails are mulch\, dirt or grass and small hills are included — trail strollers or baby carriers are recommended for our smallest visitors. Bring a picnic and enjoy the day (but please pack out your trash!). \nFor more information\, contact Kiersten Bowser at kiersten.bowser@naturalsciences.org.
URL:https://naturalsciences.org/calendar/event/lets-explore-birds/
LOCATION:Prairie Ridge\, 1671 Gold Star Drive\, Raleigh\, NC\, 27607\, United States
CATEGORIES:Children,Outdoor Experiences,Walk-up Programs
ORGANIZER;CN="Kiersten%20Bowser":MAILTO:kiersten.bowser@naturalsciences.org
GEO:35.812182885871;-78.713963528554
X-APPLE-STRUCTURED-LOCATION;VALUE=URI;X-ADDRESS=Prairie Ridge 1671 Gold Star Drive Raleigh NC 27607 United States;X-APPLE-RADIUS=500;X-TITLE=1671 Gold Star Drive:geo:-78.713963528554,35.812182885871
END:VEVENT
END:VCALENDAR