BEGIN:VCALENDAR
VERSION:2.0
PRODID:-//Programs and Events Calendar - ECPv5.9.0//NONSGML v1.0//EN
CALSCALE:GREGORIAN
METHOD:PUBLISH
X-WR-CALNAME:Programs and Events Calendar
X-ORIGINAL-URL:https://naturalsciences.org/calendar
X-WR-CALDESC:Events for Programs and Events Calendar
BEGIN:VTIMEZONE
TZID:America/New_York
BEGIN:DAYLIGHT
TZOFFSETFROM:-0500
TZOFFSETTO:-0400
TZNAME:EDT
DTSTART:20260308T070000
END:DAYLIGHT
BEGIN:STANDARD
TZOFFSETFROM:-0400
TZOFFSETTO:-0500
TZNAME:EST
DTSTART:20261101T060000
END:STANDARD
END:VTIMEZONE
BEGIN:VEVENT
DTSTART;TZID=America/New_York:20260507T160000
DTEND;TZID=America/New_York:20260507T170000
DTSTAMP:20260422T134014
CREATED:20260421T183131Z
LAST-MODIFIED:20260421T184034Z
UID:120539-1778169600-1778173200@naturalsciences.org
SUMMARY:Intro to Herpetology
DESCRIPTION:Herpetology is the study of reptiles and amphibians and the May-June season for ecoEXPLORE! Join us to learn more about reptiles and amphibians\, the people who study them\, and how to get good photos of them for your Herpetology badge! \nThis program is aimed at kids in grades K-8 interested in being a part of the ecoEXPLORE collaborative science project\, but all are welcome. \nRegister
URL:https://naturalsciences.org/calendar/event/intro-to-herpetology-2026/
LOCATION:Virtual\, NC\, United States
CATEGORIES:Children,Citizen Science,ecoEXPLORE,K-12 Students,Teens,Virtual
ORGANIZER;CN="ecoEXPLORE%20Team":MAILTO:ecoexplore@naturalsciences.org
END:VEVENT
END:VCALENDAR